BEGIN:VCALENDAR
VERSION:2.0
PRODID:-//ChamberMaster//Event Calendar 2.0//EN
METHOD:PUBLISH
X-PUBLISHED-TTL:P3D
REFRESH-INTERVAL:P3D
CALSCALE:GREGORIAN
BEGIN:VEVENT
DTSTART:20241025T150000Z
DTEND:20241025T180000Z
X-MICROSOFT-CDO-ALLDAYEVENT:FALSE
SUMMARY:You're Invited: Tailgate Party at Rightsize Facility!
DESCRIPTION:Drop by our Southfield Showroom between 11 & 2 on Friday\, October 25th for food\, games\, prizes\, networking and tailgate fun! Whether you're a fan of Michigan\, Michigan State\, or any other college team\, this is the perfect chance to show your team spirit and enjoy a day of fun\, food\, and games.\n\n	Date: October 25\, 2024\n\n\n\n	Time: 11:00am-2:00pm\n\n\n\n	Location: 25925 Telegraph Rd #145\, Southfield\, MI 48033\n\nWear your favorite team colors (no matter the school) and come ready for some tailgate fun. This casual event is open to all\, so feel free to bring a friend or colleague.\n\nDon't miss the opportunity to connect\, relax\, and celebrate the college football season with us!
X-ALT-DESC;FMTTYPE=text/html:Drop by our Southfield Showroom between 11 &amp\; 2 on Friday\, October 25th for food\, games\, prizes\, networking and tailgate fun! Whether you&rsquo\;re a fan of Michigan\, Michigan State\, or any other college team\, this is the perfect chance to show your team spirit and enjoy a day of fun\, food\, and games.\n<ul>\n	<li><strong>Date:</strong> October 25\, 2024</li>\n</ul>\n\n<ol>\n	<li><strong>Time:</strong> 11:00am-2:00pm</li>\n</ol>\n\n<ol>\n	<li><strong>Location:</strong> 25925 Telegraph Rd #145\, Southfield\, MI 48033</li>\n</ol>\nWear your favorite team colors (no matter the school) and come ready for some tailgate fun. This casual event is open to all\, so feel free to bring a friend or colleague.<br />\nDon&rsquo\;t miss the opportunity to connect\, relax\, and celebrate the college football season with us!
LOCATION:Location: 25925 Telegraph Rd #145\, Southfield\, MI 48033
UID:e.2933.4574
SEQUENCE:3
DTSTAMP:20260423T075620Z
URL:http://royaloakchamber.smartcms.site/events/details/you-re-invited-tailgate-party-at-rightsize-facility-4574
END:VEVENT

END:VCALENDAR
