BEGIN:VCALENDAR
VERSION:2.0
PRODID:-//ChamberMaster//Event Calendar 2.0//EN
METHOD:PUBLISH
X-PUBLISHED-TTL:P3D
REFRESH-INTERVAL:P3D
CALSCALE:GREGORIAN
BEGIN:VEVENT
DTSTART:20240701T220000Z
DTEND:20240702T000000Z
X-MICROSOFT-CDO-ALLDAYEVENT:FALSE
SUMMARY:Wolverine State Brewing Tap Showcase
DESCRIPTION:Join us for a fun night with our friends from Wolverine State Brewing! Meet a rep\, grab some swag\, and as always\, try some delicious beer! All updates will be posted on our Facebook event!
X-ALT-DESC;FMTTYPE=text/html:<div>Join us for a fun night with our friends from Wolverine State Brewing! Meet a rep\, grab some swag\, and as always\, try some delicious beer! All updates will be posted on our Facebook event!</div>\n
LOCATION:30955 Woodward Ave\, Royal Oak MI 48073
UID:e.2933.4365
SEQUENCE:3
DTSTAMP:20260423T021845Z
URL:http://royaloakchamber.smartcms.site/events/details/wolverine-state-brewing-tap-showcase-4365
END:VEVENT

END:VCALENDAR
