BEGIN:VCALENDAR
VERSION:2.0
PRODID:-//ChamberMaster//Event Calendar 2.0//EN
METHOD:PUBLISH
X-PUBLISHED-TTL:P3D
REFRESH-INTERVAL:P3D
CALSCALE:GREGORIAN
BEGIN:VEVENT
DTSTART:20231206T220000Z
DTEND:20231207T000000Z
X-MICROSOFT-CDO-ALLDAYEVENT:FALSE
SUMMARY:Winter Wonderland: Barbie Edition
DESCRIPTION:About this event- Join us for an enchanting evening as we present our newest creation a desk that transcends beyond furniture into fantasy where icy elegance and hot pink glamor collide. As you mingle and enjoy sparkling drinks and small bites\, you'll be immersed in the beauty of our showroom\, which has been turned into the World of Barbie! 3form will host a Continued Education Unit (CEU)\, "Designing Rooms for Acoustics." Don't pass up the opportunity to infuse your professional relationships with excitement and take part in an occasion where work and wonder collide! To pay homage to our high-fashion honoree\, wear your best winter attire with a pop of pink. Together\, let's make business glamorous!
X-ALT-DESC;FMTTYPE=text/html:About this event- Join us for an enchanting evening as we present our newest creation&mdash\;a desk that transcends beyond furniture into fantasy&mdash\;where icy elegance and hot pink glamor collide. As you mingle and enjoy sparkling drinks and small bites\, you&#39\;ll be immersed in the beauty of our showroom\, which has been turned into the World of Barbie! 3form will host a Continued Education Unit (CEU)\, &quot\;Designing Rooms for Acoustics.&quot\; Don&#39\;t pass up the opportunity to infuse your professional relationships with excitement and take part in an occasion where work and wonder collide! To pay homage to our high-fashion honoree\, wear your best winter attire with a pop of pink. Together\, let&#39\;s make business glamorous!<br />\n&nbsp\;<br />\n&nbsp\;
LOCATION:
UID:e.2933.4213
SEQUENCE:3
DTSTAMP:20260422T175010Z
URL:http://royaloakchamber.smartcms.site/events/details/winter-wonderland-barbie-edition-4213
END:VEVENT

END:VCALENDAR
