BEGIN:VCALENDAR
VERSION:2.0
PRODID:-//ChamberMaster//Event Calendar 2.0//EN
METHOD:PUBLISH
X-PUBLISHED-TTL:P3D
REFRESH-INTERVAL:P3D
CALSCALE:GREGORIAN
BEGIN:VEVENT
DTSTART:20241221T160000Z
DTEND:20241222T040000Z
X-MICROSOFT-CDO-ALLDAYEVENT:FALSE
SUMMARY:Winter Solstice Dark Beer Day
DESCRIPTION:Winter Solstice marks the longest night and the shortest day of the year. Why not embrace the darker days with some dark beers?\n\n \n\nWe will have a selection of dark beers on tap just for you!\n\n \n\nEnjoy a specialty flight featuring Griffin Claw's Flying Buffalo Stouts!\n\n \n\nChoose any three from our four options for just $13!\n\n \n\nAvailable all day while supplies last!\n\n \n\nThe flight includes:\n\nGriffin Claw Flying Buffalo Mackinac Island Fudge\n\nGriffin Claw Flying Buffalo Rocky Road\n\nGriffin Claw Flying Buffalo Affogato\n\nGriffin Claw Flying Buffalo\n\n \n\nJoin us for an evening filled with delightful brews!
X-ALT-DESC;FMTTYPE=text/html:<div>Winter Solstice marks the longest night and the shortest day of the year. Why not embrace the darker days with some dark beers?<br />\n&nbsp\;</div>\n\n<div>We will have a selection of dark beers on tap just for you!<br />\n&nbsp\;</div>\n\n<div>Enjoy a specialty flight featuring Griffin Claw&rsquo\;s Flying Buffalo Stouts!<br />\n&nbsp\;</div>\n\n<div>Choose any three from our four options for just $13!<br />\n&nbsp\;</div>\n\n<div>Available all day while supplies last!<br />\n&nbsp\;</div>\n\n<div>The flight includes:<br />\nGriffin Claw Flying Buffalo Mackinac Island Fudge<br />\nGriffin Claw Flying Buffalo Rocky Road<br />\nGriffin Claw Flying Buffalo Affogato<br />\nGriffin Claw Flying Buffalo<br />\n&nbsp\;</div>\n\n<div>Join us for an evening filled with delightful brews!</div>\n
LOCATION:30955 Woodward Ave.\, Royal Oak\, MI\, United States\, Michigan 48073
UID:e.2933.4644
SEQUENCE:3
DTSTAMP:20260423T175057Z
URL:http://royaloakchamber.smartcms.site/events/details/winter-solstice-dark-beer-day-4644
END:VEVENT

END:VCALENDAR
