BEGIN:VCALENDAR
VERSION:2.0
PRODID:-//ChamberMaster//Event Calendar 2.0//EN
METHOD:PUBLISH
X-PUBLISHED-TTL:P3D
REFRESH-INTERVAL:P3D
CALSCALE:GREGORIAN
BEGIN:VEVENT
DTSTART:20240618T230000Z
DTEND:20240619T000000Z
X-MICROSOFT-CDO-ALLDAYEVENT:FALSE
SUMMARY:Whatcha Reading?!
DESCRIPTION:Want to talk about what you're reading with other readers? What do you want to read this Summer? What on your Summer Reading List?\n\nLet's talk about it! Come join us at Brown Iron Brewhouse in Royal Oak to talk about the books you are currently reading and what to read over the summer. You might get some book ideas for your next read. Let's have a beer and talk about some books. The library will provide some appetizers\, and patrons will cover all drinks they would like to have for the night.\n\nWe will be meeting in a back room of the restaurant\, and the host can show you where to go!\n\nYOU MUST REGISTER FOR THIS EVENT!\n\nRegistration closes on June 14th! Click the ticket link to register or go to Royal Oaks Public Library website!\n\nThis is free to attend!
X-ALT-DESC;FMTTYPE=text/html:<div>Want to talk about what you&#39\;re reading with other readers? What do you want to read this Summer? What on your Summer Reading List?</div>\n\n<div>Let&#39\;s talk about it! Come join us at Brown Iron Brewhouse in Royal Oak to talk about the books you are currently reading and what to read over the summer. You might get some book ideas for your next read. Let&#39\;s have a beer and talk about some books. The library will provide some appetizers\, and patrons will cover all drinks they would like to have for the night.</div>\n\n<div>We will be meeting in a back room of the restaurant\, and the host can show you where to go!</div>\n\n<div>YOU MUST REGISTER FOR THIS EVENT!</div>\n\n<div>Registration closes on June 14th! Click the ticket link to register or go to Royal Oaks Public Library website!</div>\n\n<div>This is free to attend!</div>\n
LOCATION:30955 Woodward Ave\, Unit 510 Royal Oak MI
UID:e.2933.4364
SEQUENCE:3
DTSTAMP:20260423T004029Z
URL:http://royaloakchamber.smartcms.site/events/details/whatcha-reading-4364
END:VEVENT

END:VCALENDAR
