BEGIN:VCALENDAR
VERSION:2.0
PRODID:-//ChamberMaster//Event Calendar 2.0//EN
METHOD:PUBLISH
X-PUBLISHED-TTL:P3D
REFRESH-INTERVAL:P3D
CALSCALE:GREGORIAN
BEGIN:VEVENT
DTSTART:20230719T120000Z
DTEND:20230719T130000Z
X-MICROSOFT-CDO-ALLDAYEVENT:FALSE
SUMMARY:Walking Club presented by: Henry Ford Health & HAP
DESCRIPTION:ROCC Walking Club is a great opportunity for morning networking and fresh air! Our members are invited to join the Chamber Ambassadors to visit various locations around Royal Oak. \n\n\n\nFor our July walking club\, we will meet at the ROCC at 8am and walk over to Home Turf Gym for a tour of their studio and services. Please register to attend. \n\n\n\nThere is no official "joining" of this club. Any member can register and walk with us!
X-ALT-DESC;FMTTYPE=text/html:<font face="Arial\, sans-serif"><span style="font-size: 16px\;">ROCC Walking Club is a great opportunity for morning networking and fresh air! Our members are invited to join the Chamber Ambassadors to visit various locations around Royal Oak.&nbsp\;</span></font><br />\n<br />\n<font face="Arial\, sans-serif"><span style="font-size: 16px\;">For our July walking club\, we will meet at the ROCC at 8am and walk over to Home Turf Gym for a tour of their studio and services. Please register to attend.&nbsp\;</span></font><br />\n<br />\n<font face="Arial\, sans-serif"><span style="font-size: 16px\;">There is no official &quot\;joining&quot\; of this club. Any member can register and walk with us!&nbsp\;</span></font>
LOCATION:Meet at the ROCC office (200 S. Washington)
UID:e.2933.4148
SEQUENCE:3
DTSTAMP:20260423T203256Z
URL:http://royaloakchamber.smartcms.site/events/details/walking-club-presented-by-henry-ford-health-hap-4148
END:VEVENT

END:VCALENDAR
