BEGIN:VCALENDAR
VERSION:2.0
PRODID:-//ChamberMaster//Event Calendar 2.0//EN
METHOD:PUBLISH
X-PUBLISHED-TTL:P3D
REFRESH-INTERVAL:P3D
CALSCALE:GREGORIAN
BEGIN:VEVENT
DTSTART:20211115T130000Z
DTEND:20211115T140000Z
X-MICROSOFT-CDO-ALLDAYEVENT:FALSE
SUMMARY:Walking Club
DESCRIPTION:Join the Chamber Ambassadors on the 3rd Monday of each month. We'll be walkin' and talkin' our way through downtown Royal Oak. In November we will meet at the Chamber and walk over to the Baldwin Theatre for a tour.
X-ALT-DESC;FMTTYPE=text/html:<span style="font-size: 12pt\; font-family: Arial\, sans-serif\;">Join the Chamber Ambassadors on the 3rd Monday of each month. We&#39\;ll be walkin&#39\; and talkin&#39\; our way through downtown Royal Oak. In November we will meet at the Chamber and walk over to the Baldwin Theatre for a tour.&nbsp\;</span>
LOCATION:Starting at the Chamber Office. 200 S. Washington. Ending at Stagecrafters-Baldwin Theatre.
UID:e.2933.3807
SEQUENCE:3
DTSTAMP:20260424T185118Z
URL:http://royaloakchamber.smartcms.site/events/details/walking-club-11-15-2021-3807
END:VEVENT

END:VCALENDAR
