BEGIN:VCALENDAR
VERSION:2.0
PRODID:-//ChamberMaster//Event Calendar 2.0//EN
METHOD:PUBLISH
X-PUBLISHED-TTL:P3D
REFRESH-INTERVAL:P3D
CALSCALE:GREGORIAN
BEGIN:VEVENT
DTSTART:20211018T120000Z
DTEND:20211018T130000Z
X-MICROSOFT-CDO-ALLDAYEVENT:FALSE
SUMMARY:Walking Club
DESCRIPTION:Join the Chamber Ambassadors on the 3rd Monday of each month. We'll be walkin' and talkin' our way through downtown Royal Oak. This month we'll be learning important tips from Terry Trost\, Owner of Fourth Street Auto Care Center\, Preventive Car care for the Winter! \n\n\n\nRSVP required.
X-ALT-DESC;FMTTYPE=text/html:<span style="font-size: 12pt\; font-family: Arial\, sans-serif\;">Join the Chamber Ambassadors on the 3rd Monday of each month. We&#39\;ll be walkin&#39\; and talkin&#39\; our way through downtown Royal Oak.</span><span style="font-size: 12pt\; font-family: Arial\, sans-serif\;">&nbsp\;This month we&#39\;ll be learning important tips from Terry Trost\, Owner of Fourth Street Auto Care Center\, Preventive Car care for the Winter!&nbsp\;<br />\n<br />\nRSVP required.</span>
LOCATION:Starting at the Chamber Office. 200 S. Washington. Walking to Fourth Street Auto Care Center.
UID:e.2933.3806
SEQUENCE:3
DTSTAMP:20260424T203747Z
URL:http://royaloakchamber.smartcms.site/events/details/walking-club-10-18-2021-3806
END:VEVENT

END:VCALENDAR
