BEGIN:VCALENDAR
VERSION:2.0
PRODID:-//ChamberMaster//Event Calendar 2.0//EN
METHOD:PUBLISH
X-PUBLISHED-TTL:P3D
REFRESH-INTERVAL:P3D
CALSCALE:GREGORIAN
BEGIN:VEVENT
DTSTART:20210920T130000Z
DTEND:20210920T140000Z
X-MICROSOFT-CDO-ALLDAYEVENT:FALSE
SUMMARY:Walking Club
DESCRIPTION:Join the Chamber Ambassadors on the 3rd Monday of each month. We'll be walkin' and talkin' our way through downtown Royal Oak.\n\n\n\nIn September our route will bring us to Motor City Gas for a tour of the distillery! Please RSVP if you plan on attending.
X-ALT-DESC;FMTTYPE=text/html:<span style="font-size: 12pt\; font-family: Arial\, sans-serif\;">Join the Chamber Ambassadors on the 3rd Monday of each month. We&#39\;ll be walkin&#39\; and talkin&#39\; our way through downtown Royal Oak.<br />\n<br />\nIn September our route will bring us to Motor City Gas for a tour of the distillery! Please RSVP if you plan on attending.&nbsp\;</span>
LOCATION:Starting at the Chamber Office. 200 S. Washington
UID:e.2933.3805
SEQUENCE:3
DTSTAMP:20260424T222629Z
URL:http://royaloakchamber.smartcms.site/events/details/walking-club-09-20-2021-3805
END:VEVENT

END:VCALENDAR
