BEGIN:VCALENDAR
VERSION:2.0
PRODID:-//ChamberMaster//Event Calendar 2.0//EN
METHOD:PUBLISH
X-PUBLISHED-TTL:P3D
REFRESH-INTERVAL:P3D
CALSCALE:GREGORIAN
BEGIN:VEVENT
DTSTART:20210816T120000Z
DTEND:20210816T130000Z
X-MICROSOFT-CDO-ALLDAYEVENT:FALSE
SUMMARY:Walking Club
DESCRIPTION:Join the Chamber Ambassadors on the 3rd Monday of each month. We'll be walkin' and talkin' our way through downtown Royal Oak. Our route this month will take us to the new Royal Oak Police Station for a tour! Space is limited. RSVP is mandatory.
X-ALT-DESC;FMTTYPE=text/html:<span style="font-size: 12pt\; font-family: Arial\, sans-serif\;">Join the Chamber Ambassadors on the 3rd Monday of each month. We&#39\;ll be walkin&#39\; and talkin&#39\; our way through downtown Royal Oak. Our route this month will take us to the new <strong>Royal Oak Police Station</strong> for a tour! Space is limited. RSVP is mandatory.&nbsp\;</span>
LOCATION:Starting at the Chamber Office. 200 S. Washington
UID:e.2933.3804
SEQUENCE:3
DTSTAMP:20260425T001116Z
URL:http://royaloakchamber.smartcms.site/events/details/walking-club-08-16-2021-3804
END:VEVENT

END:VCALENDAR
