BEGIN:VCALENDAR
VERSION:2.0
PRODID:-//ChamberMaster//Event Calendar 2.0//EN
METHOD:PUBLISH
X-PUBLISHED-TTL:P3D
REFRESH-INTERVAL:P3D
CALSCALE:GREGORIAN
BEGIN:VEVENT
DTSTART:20210719T120000Z
DTEND:20210719T130000Z
X-MICROSOFT-CDO-ALLDAYEVENT:FALSE
SUMMARY:Walking Club
DESCRIPTION:Join the Chamber Ambassadors on the 3rd Monday of each month. We'll be walkin' and talkin' our way through downtown Royal Oak.\n\n\n\n  At our next Waking Club\, Monday\, July 19th at 8:00 AM\,  we will get our steps in by touring the beautiful new Royal Oak City Offices.  Todd Fenton\, Economic Development Manager for the City will conduct the tour. Please RSVP for this event. \n\n\n\nMeet us at the Chamber parking lot and we'll leave from there at 8AM sharp.
X-ALT-DESC;FMTTYPE=text/html:<span style="font-size:14px\;"><span style="font-family:arial\;">Join the Chamber Ambassadors on the 3rd Monday of each month. We&#39\;ll be walkin&#39\; and talkin&#39\; our way through downtown Royal Oak.<br />\n<br />\n&nbsp\; At our next Waking Club\, Monday\, July 19<sup>th </sup>at 8:00 AM\, &nbsp\;we will get our steps in by touring the beautiful new Royal Oak City Offices.&nbsp\; Todd Fenton\, Economic Development Manager for the City will conduct the tour.&nbsp\;Please RSVP for this event.&nbsp\;<br />\n<br />\nMeet us at the Chamber parking lot and we&#39\;ll leave from there at 8AM sharp.&nbsp\;</span></span>
LOCATION:Starting at the Chamber Office. 200 S. Washington
UID:e.2933.3803
SEQUENCE:3
DTSTAMP:20260425T034752Z
URL:http://royaloakchamber.smartcms.site/events/details/walking-club-07-19-2021-3803
END:VEVENT

END:VCALENDAR
