BEGIN:VCALENDAR
VERSION:2.0
PRODID:-//ChamberMaster//Event Calendar 2.0//EN
METHOD:PUBLISH
X-PUBLISHED-TTL:P3D
REFRESH-INTERVAL:P3D
CALSCALE:GREGORIAN
BEGIN:VEVENT
DTSTART:20250116T230000Z
DTEND:20250117T010000Z
X-MICROSOFT-CDO-ALLDAYEVENT:FALSE
SUMMARY:Walker Brothers Tap Showcase
DESCRIPTION:Join us for a fun night with our friends from Walker Brothers!\n\nMeet a rep\, grab some swag\, and sample some of their delicious kombucha!\n\nAll updates will be made on our Facebook event!
X-ALT-DESC;FMTTYPE=text/html:<div>Join us for a fun night with our friends from Walker Brothers!</div>\n\n<div>Meet a rep\, grab some swag\, and sample some of their delicious kombucha!</div>\n\n<div>All updates will be made on our Facebook event!</div>\n
LOCATION:30955 Woodward ave\, unit 510 Royal Oak MI
UID:e.2933.4584
SEQUENCE:3
DTSTAMP:20260419T165240Z
URL:http://royaloakchamber.smartcms.site/events/details/walker-brothers-tap-showcase-4584
END:VEVENT

END:VCALENDAR
