BEGIN:VCALENDAR
VERSION:2.0
PRODID:-//ChamberMaster//Event Calendar 2.0//EN
METHOD:PUBLISH
X-PUBLISHED-TTL:P3D
REFRESH-INTERVAL:P3D
CALSCALE:GREGORIAN
BEGIN:VEVENT
DTSTART:20240608T113000Z
DTEND:20240608T153000Z
X-MICROSOFT-CDO-ALLDAYEVENT:FALSE
SUMMARY:Walk for Miracles
DESCRIPTION:Benefiting programs of Beaumont Children's\, a Children's Miracle Network Hospital. Walkers will enjoy the zoo for the entire day with your family. In addition to exploring the zoo exhibits\, attendees will enjoy complimentary refreshments and meet popular comic book and fairytale heroes! Dressing as your favorite superhero is encouraged and participants will receive their very own superhero cape and finishing medallion. For sponsorship opportunities\, contact squittieri.marie@corewellhealth.org.
X-ALT-DESC;FMTTYPE=text/html:Benefiting programs of Beaumont Children&rsquo\;s\, a Children&rsquo\;s Miracle Network Hospital. Walkers will enjoy the zoo for the entire day with your family. In addition to exploring the zoo exhibits\, attendees will enjoy complimentary refreshments and meet popular comic book and fairytale heroes! Dressing as your favorite superhero is encouraged and participants will receive their very own superhero cape and finishing medallion. For sponsorship opportunities\, contact squittieri.marie@corewellhealth.org.
LOCATION:Detroit Zoo 8450 W 10 Mile Rd\, Royal Oak\, MI 48067
UID:e.2933.4344
SEQUENCE:3
DTSTAMP:20260423T021839Z
URL:http://royaloakchamber.smartcms.site/events/details/walk-for-miracles-4344
END:VEVENT

END:VCALENDAR
