BEGIN:VCALENDAR
VERSION:2.0
PRODID:-//ChamberMaster//Event Calendar 2.0//EN
METHOD:PUBLISH
X-PUBLISHED-TTL:P3D
REFRESH-INTERVAL:P3D
CALSCALE:GREGORIAN
BEGIN:VEVENT
DTSTART:20200513T113000Z
DTEND:20200513T123000Z
X-MICROSOFT-CDO-ALLDAYEVENT:FALSE
SUMMARY:Virtual TAC (The Alternative Connection) Meeting
DESCRIPTION:The Alternative Connection  (TAC) is going VIRTUAL. As small businesses\, we are working together to meet challenges of our current situation. For the duration of the lockdown\, TAC will be meeting every Wednesday morning at 7:30 via Zoom. We will use this time for discussions on how to position our businesses to be ready when the lockdown ends\, resources available to small businesses and other educational topics. For more info call the Chamber 248.547.4000.
X-ALT-DESC;FMTTYPE=text/html:<div style="color: rgb(64\, 63\, 66)\; font-family: Arial\,Verdana\,Helvetica\,sans-serif\; font-size: 12px\; font-style: normal\; font-variant: normal\; font-weight: 400\; letter-spacing: normal\; orphans: 2\; text-align: left\; text-decoration: none\; text-indent: 0px\; text-transform: none\; -webkit-text-stroke-width: 0px\; white-space: pre-wrap\; word-spacing: 0px\;"><span style="color: black\; font-family: Arial\,Verdana\,Helvetica\,sans-serif\; font-size: 16px\; font-weight: bold\;">The Alternative Connection&nbsp\;</span><span style="color: rgb(64\, 63\, 66)\; font-family: Arial\,Verdana\,Helvetica\,sans-serif\; font-size: 12px\;"> </span><span style="color: black\; font-family: Arial\,Verdana\,Helvetica\,sans-serif\; font-size: 16px\;">(TAC) is going VIRTUAL.&nbsp\;As small businesses\, we are working together to meet challenges of our current situation.&nbsp\;For the duration of the lockdown\, TAC will be meeting every Wednesday morning at 7:30 via Zoom.&nbsp\;We will use this time for discussions on how to position our businesses to be ready when the lockdown ends\, resources available to small businesses and other educational topics.&nbsp\;For more info call the Chamber 248.547.4000.</span><span style="color: rgb(64\, 63\, 66)\; font-family: Arial\,Verdana\,Helvetica\,sans-serif\; font-size: 12px\;"> </span></div>\n\n<div style="color: rgb(64\, 63\, 66)\; font-family: Arial\,Verdana\,Helvetica\,sans-serif\; font-size: 12px\; font-style: normal\; font-variant: normal\; font-weight: 400\; letter-spacing: normal\; orphans: 2\; text-align: left\; text-decoration: none\; text-indent: 0px\; text-transform: none\; -webkit-text-stroke-width: 0px\; white-space: pre-wrap\; word-spacing: 0px\;"><span style="color: rgb(64\, 63\, 66)\; font-family: Arial\,Verdana\,Helvetica\,sans-serif\; font-size: 12px\;">&nbsp\;</span></div>\n\n<div style="color: rgb(64\, 63\, 66)\; font-family: Arial\,Verdana\,Helvetica\,sans-serif\; font-size: 12px\; font-style: normal\; font-variant: normal\; font-weight: 400\; letter-spacing: normal\; orphans: 2\; text-align: center\; text-decoration: none\; text-indent: 0px\; text-transform: none\; -webkit-text-stroke-width: 0px\; white-space: pre-wrap\; word-spacing: 0px\;">&nbsp\;</div>\n
LOCATION:
UID:e.2933.721
SEQUENCE:3
DTSTAMP:20260426T025559Z
URL:http://royaloakchamber.smartcms.site/events/details/virtual-tac-the-alternative-connection-meeting-05-13-2020-721
END:VEVENT

END:VCALENDAR
