BEGIN:VCALENDAR
VERSION:2.0
PRODID:-//ChamberMaster//Event Calendar 2.0//EN
METHOD:PUBLISH
X-PUBLISHED-TTL:P3D
REFRESH-INTERVAL:P3D
CALSCALE:GREGORIAN
BEGIN:VEVENT
DTSTART:20200520T140000Z
DTEND:20200520T150000Z
X-MICROSOFT-CDO-ALLDAYEVENT:FALSE
SUMMARY:Virtual Realtor Roundtable
DESCRIPTION:An free event for Chamber Members Only!\n\n\n\nWe are inviting 10 Realtors and 10 Lenders to join us for a Virtual Realtor Roundtable with guest hosts\; Mike Ripinski\, Team Ripinski Century 21 Curran & Oberski\; Kim Hosner\, RE/MAX Vision & Juli Siagkris-Seymour\, Myrina Mortgage Group.\n\n\n\nJoin us for a discussion: Realtor Best Practices-Update Since May 7th
X-ALT-DESC;FMTTYPE=text/html:<span style="font-size:16px\;"><span style="font-family:arial\;">An free event for Chamber Members Only!</span></span><br />\n<br />\n<span style="font-size:16px\;"><span style="font-family:arial\;">We are inviting 10 Realtors and 10 Lenders to join us for a Virtual Realtor Roundtable with guest hosts\; Mike Ripinski\, Team Ripinski Century 21 Curran &amp\; Oberski\; Kim Hosner\, RE/MAX Vision &amp\; Juli Siagkris-Seymour\, Myrina Mortgage Group.<br />\n<br />\n<strong>Join us for a discussion:&nbsp\;Realtor Best Practices-Update Since May 7th</strong></span></span>
LOCATION:Zoom Meeting The Zoom link will be emailed to you the day before.
UID:e.2933.3318
SEQUENCE:3
DTSTAMP:20260426T022948Z
URL:http://royaloakchamber.smartcms.site/events/details/virtual-realtor-roundtable-3318
END:VEVENT

END:VCALENDAR
