BEGIN:VCALENDAR
VERSION:2.0
PRODID:-//ChamberMaster//Event Calendar 2.0//EN
METHOD:PUBLISH
X-PUBLISHED-TTL:P3D
REFRESH-INTERVAL:P3D
CALSCALE:GREGORIAN
BEGIN:VEVENT
DTSTART:20200506T170000Z
DTEND:20200506T180000Z
X-MICROSOFT-CDO-ALLDAYEVENT:FALSE
SUMMARY:Virtual Realtor Roundtable
DESCRIPTION:An free event for Chamber Members Only!\n\n\n\nWe are inviting 10 Realtors and 10 Lenders to join us for a Virtual Realtor Roundtable with guest hosts\; Mike Ripinski\, Team Ripinski Century 21 Curran & Oberski\; Kim Hosner\, RE/MAX Vision & Juli Siagkris-Seymour\, Myrina Mortgage Group.\n\n\n\nJoin us for a discussion: Navigating Real Estate in a Stay Home Market\n\n"How are we showing homes?"\n\n"Handling multiple mortgages"?\n\n"Creatively financing"
X-ALT-DESC;FMTTYPE=text/html:An free event for Chamber Members Only!<br />\n<br />\nWe are inviting 10 Realtors and 10 Lenders to join us for a Virtual Realtor Roundtable with guest hosts\; Mike Ripinski\, Team Ripinski Century 21 Curran &amp\; Oberski\; Kim Hosner\, RE/MAX Vision &amp\; Juli Siagkris-Seymour\, Myrina Mortgage Group.<br />\n<br />\nJoin us for a discussion: Navigating Real Estate in a Stay Home Market<br />\n&quot\;How are we showing homes?&quot\;<br />\n&quot\;Handling multiple mortgages&quot\;?<br />\n&quot\;Creatively financing&quot\;
LOCATION:Zoom Meeting The Zoom link will be emailed to you the day before.
UID:e.2933.3311
SEQUENCE:3
DTSTAMP:20260426T022947Z
URL:http://royaloakchamber.smartcms.site/events/details/virtual-realtor-roundtable-3311
END:VEVENT

END:VCALENDAR
