BEGIN:VCALENDAR
VERSION:2.0
PRODID:-//ChamberMaster//Event Calendar 2.0//EN
METHOD:PUBLISH
X-PUBLISHED-TTL:P3D
REFRESH-INTERVAL:P3D
CALSCALE:GREGORIAN
BEGIN:VEVENT
DTSTART:20210126T180000Z
DTEND:20210126T210000Z
X-MICROSOFT-CDO-ALLDAYEVENT:FALSE
SUMMARY:Virtual Job Fair
DESCRIPTION:Our first virtual career fair was a huge success. Move forward by joining us for our next event on Tuesday\, January 26\, from 1:00-4:00 p.m. Here is your chance to meet with employers in a range of industries with a variety of job openings that need to be filled as soon as possible. The City of Southfield and City of Oak Park are partnering with Oakland County Michigan Works! to provide this opportunity to job seekers. The majority of positions being filled are in southern Oakland County\, although there are jobs available throughout the region.
X-ALT-DESC;FMTTYPE=text/html:Our first virtual career fair was a huge success. Move forward by joining us for our next event on Tuesday\, January 26\, from 1:00-4:00 p.m. Here is your chance to meet with employers in a range of industries with a variety of job openings that need to be filled as soon as possible. The City of Southfield and City of Oak Park are partnering with Oakland County Michigan Works! to provide this opportunity to job seekers. The majority of positions being filled are in southern Oakland County\, although there are jobs available throughout the region.
LOCATION:Webinar
UID:e.2933.3502
SEQUENCE:3
DTSTAMP:20260425T155724Z
URL:http://royaloakchamber.smartcms.site/events/details/virtual-job-fair-3502
END:VEVENT

END:VCALENDAR
