BEGIN:VCALENDAR
VERSION:2.0
PRODID:-//ChamberMaster//Event Calendar 2.0//EN
METHOD:PUBLISH
X-PUBLISHED-TTL:P3D
REFRESH-INTERVAL:P3D
CALSCALE:GREGORIAN
BEGIN:VEVENT
DTSTART:20220114T140000Z
DTEND:20220114T150000Z
X-MICROSOFT-CDO-ALLDAYEVENT:FALSE
SUMMARY:Virtual Coffee Connection
DESCRIPTION:Welcome 2022!\n\n\n\nPlease join us for our first Coffee Connection of the year! \n\n\n\nAll members and members to be\, are welcome. The Zoom link will be emailed on Thursday\, January 13.
X-ALT-DESC;FMTTYPE=text/html:Welcome 2022!<br />\n<br />\nPlease join us for our first Coffee Connection of the year!&nbsp\;<br />\n<br />\nAll members and members to be\, are welcome. <i>The Zoom link will be emailed on Thursday\, January 13.&nbsp\;</i>&nbsp\;
LOCATION:Zoom link will be emailed out on January\, 13.
UID:e.2933.3871
SEQUENCE:3
DTSTAMP:20260424T151255Z
URL:http://royaloakchamber.smartcms.site/events/details/virtual-coffee-connection-3871
END:VEVENT

END:VCALENDAR
