BEGIN:VCALENDAR
VERSION:2.0
PRODID:-//ChamberMaster//Event Calendar 2.0//EN
METHOD:PUBLISH
X-PUBLISHED-TTL:P3D
REFRESH-INTERVAL:P3D
CALSCALE:GREGORIAN
BEGIN:VEVENT
DTSTART:20211112T130000Z
DTEND:20211112T140000Z
X-MICROSOFT-CDO-ALLDAYEVENT:FALSE
SUMMARY:Virtual Coffee & Connect
DESCRIPTION:Join us for a Virtual Coffee Connection! We are changing it up\, just for the month of November. We want to make sure those that have not been able to attend an in-person Coffee\, the chance to make a connection!  We will see your faces at 8AM. \n\n\n\nPlease register and look for the Zoom link to be emailed out on Thursday\, November 11.
X-ALT-DESC;FMTTYPE=text/html:Join us for a Virtual Coffee Connection! We are changing it up\, just for the month of November. We want to make sure those that have not been able to attend an in-person Coffee\, the chance to make a connection!&nbsp\; We will see your faces at 8AM.&nbsp\;<br />\n<br />\nPlease register and look for the Zoom link to be emailed out on Thursday\, November 11.&nbsp\;
LOCATION:Virtual Coffee Your Computer
UID:e.2933.3848
SEQUENCE:3
DTSTAMP:20260424T184452Z
URL:http://royaloakchamber.smartcms.site/events/details/virtual-coffee-connect-3848
END:VEVENT

END:VCALENDAR
