BEGIN:VCALENDAR
VERSION:2.0
PRODID:-//ChamberMaster//Event Calendar 2.0//EN
METHOD:PUBLISH
X-PUBLISHED-TTL:P3D
REFRESH-INTERVAL:P3D
CALSCALE:GREGORIAN
BEGIN:VEVENT
DTSTART:20200911T130000Z
DTEND:20200911T140000Z
X-MICROSOFT-CDO-ALLDAYEVENT:FALSE
SUMMARY:Virtual Coffee & Connect
DESCRIPTION:Please join us for our sixth Zoom virtual Coffee & Connect  BYOCC (Bring Your Own Coffee Cup) Event!  Everyone will get their 1 minute for their ask. Let's video chat from the comfort of our homes! \n\n\n\nWe miss our Chamber Members! We're looking forward to seeing you again!\n\n\n\nPlease register and then look for the Zoom link to be emailed on Thursday September 10. You do not need an account to participate in the Zoom meeting\; just click on the link and follow the prompts\, make sure your camera is on and audio up. \n\n\n\nRegistration closed at 5PM\, September 10
X-ALT-DESC;FMTTYPE=text/html:<br />\n<span style="font-size:14px\;"><span style="font-family:arial\;">Please join us for our sixth Zoom virtual Coffee &amp\; Connect&nbsp\; BYOCC (Bring Your Own Coffee Cup) Event!&nbsp\; Everyone will get their 1 minute for their ask. Let&#39\;s video chat from the comfort of our homes!&nbsp\;<br />\n<br />\nWe miss our Chamber Members! We&#39\;re looking forward to seeing you again!<br />\n<br />\nPlease register and then look for the Zoom link to be emailed on Thursday September 10. You do not need an account to participate in the Zoom meeting\; just click on the link and follow the prompts\, make sure your camera is on and audio up.&nbsp\;<br />\n<br />\nRegistration closed at 5PM\, September 10</span></span><br />\n&nbsp\;
LOCATION:Your house\, your computer!
UID:e.2933.3365
SEQUENCE:3
DTSTAMP:20260425T214225Z
URL:http://royaloakchamber.smartcms.site/events/details/virtual-coffee-connect-3365
END:VEVENT

END:VCALENDAR
