BEGIN:VCALENDAR
VERSION:2.0
PRODID:-//ChamberMaster//Event Calendar 2.0//EN
METHOD:PUBLISH
X-PUBLISHED-TTL:P3D
REFRESH-INTERVAL:P3D
CALSCALE:GREGORIAN
BEGIN:VEVENT
DTSTART:20201118T170000Z
DTEND:20201118T180000Z
X-MICROSOFT-CDO-ALLDAYEVENT:FALSE
SUMMARY:Virtual BWN Luncheon
DESCRIPTION:Are you ready for 2020 Taxes?\n					\n				\n			\n			\n		\n	\n\n\n \n \n\n\n	\n		\n			\n			\n				\n					\n						As if Zoom meetings weren't boring enough\, Peter Boyse is looking forward to presenting at BWN's annual tax talk. The topics of discussion include a recap of all the tax changes for individuals and businesses that occurred so far this year\, a look at the paycheck protection program\, action items to take between now and year-end\, and (provided we know who will be president for the next four years) some insight into what we might expect in the future. Make sure you are fully caffeinated.\n\n						 \n\n						Mr. Boyse is a licensed CPA in the state of MI\, an active member of the Royal Oak Chamber of Commerce for 6 years\, and has been presenting at BWN's annual tax talk for the last 4. In addition to his sarcasm and self-deprecating sense of humor\, he is also known for his passion for educating his community on tax and accounting matters.\n\n						 \n\n						 \n\n						Cost for the event is free\, but we are suggesting a donation of $10 - $15\; proceeds will be donated to the Greater Royal Oak Chamber of Commerce.\n\n						 \n\n						November 18th - Zoom - 12pm - 1pm
X-ALT-DESC;FMTTYPE=text/html:<table align="center" border="0" cellpadding="0" cellspacing="0" style="width:100.0%\;border-collapse:collapse\;" width="100%">\n	<tbody>\n		<tr>\n			<td style="width:100.0%\;padding:0in 0in 0in 0in\;vertical-align:top\;">\n			<table border="0" cellpadding="0" cellspacing="0" style="width:100.0%\;border-collapse:collapse\;" width="100%">\n				<tbody>\n					<tr>\n						<td style="padding:7.5pt 15.0pt 7.5pt 15.0pt\;vertical-align:top\;"><span style="color:#717A80\;"><span style="font-family:arial\,sans-serif\;"><span style="font-size:18.0pt\;">Are you ready for 2020 Taxes?</span></span></span></td>\n					</tr>\n				</tbody>\n			</table>\n			</td>\n		</tr>\n	</tbody>\n</table>\n\n<div style="clear:both\;">&nbsp\;</div>\n&nbsp\;\n\n<table align="center" border="0" cellpadding="0" cellspacing="0" style="width:100.0%\;border-collapse:collapse\;min-width:100%\;" width="100%">\n	<tbody>\n		<tr>\n			<td style="width:100.0%\;padding:0in 0in 0in 0in\;vertical-align:top\;">\n			<table border="0" cellpadding="0" cellspacing="0" style="width:100.0%\;border-collapse:collapse\;min-width:100%\;" width="100%">\n				<tbody>\n					<tr>\n						<td style="padding:7.5pt 15.0pt 7.5pt 15.0pt\;vertical-align:top\;"><span style="color:#403F42\;"><span style="font-family:trebuchet ms\,sans-serif\;"><span style="font-size:10.5pt\;">As if Zoom meetings weren&rsquo\;t boring enough\, Peter Boyse is looking forward to presenting at BWN&rsquo\;s annual tax talk. The topics of discussion include a recap of all the tax changes for individuals and businesses that occurred so far this year\, a look at the paycheck protection program\, action items to take between now and year-end\, and (provided we know who will be president for the next four years) some insight into what we might expect in the future. Make sure you are fully caffeinated.</span></span></span><br />\n						&nbsp\;<br />\n						<span style="color:#403F42\;"><span style="font-family:trebuchet ms\,sans-serif\;"><span style="font-size:10.5pt\;">Mr. Boyse is a licensed CPA in the state of MI\, an active member of the Royal Oak Chamber of Commerce for 6 years\, and has been presenting at BWN&rsquo\;s annual tax talk for the last 4. In addition to his sarcasm and self-deprecating sense of humor\, he is also known for his passion for educating his community on tax and accounting matters.</span></span></span><br />\n						&nbsp\;<br />\n						&nbsp\;<br />\n						<span style="color:#403F42\;"><span style="font-family:trebuchet ms\,sans-serif\;"><span style="font-size:10.5pt\;">Cost for the event is free\, but we are suggesting a donation of $10 - $15\; proceeds will be donated to the Greater Royal Oak Chamber of Commerce.</span></span></span><br />\n						&nbsp\;<br />\n						<strong><u><span style="color:#403F42\;"><span style="font-family:trebuchet ms\,sans-serif\;"><span style="font-size:12.0pt\;">November 18th - Zoom - 12pm - 1pm</span></span></span></u></strong></td>\n					</tr>\n				</tbody>\n			</table>\n			</td>\n		</tr>\n	</tbody>\n</table>\n\n<div style="clear:both\;">&nbsp\;</div>\n
LOCATION:
UID:e.2933.3454
SEQUENCE:3
DTSTAMP:20260425T160931Z
URL:http://royaloakchamber.smartcms.site/events/details/virtual-bwn-luncheon-3454
END:VEVENT

END:VCALENDAR
