BEGIN:VCALENDAR
VERSION:2.0
PRODID:-//ChamberMaster//Event Calendar 2.0//EN
METHOD:PUBLISH
X-PUBLISHED-TTL:P3D
REFRESH-INTERVAL:P3D
CALSCALE:GREGORIAN
BEGIN:VEVENT
DTSTART:20200519T210000Z
DTEND:20200519T220000Z
X-MICROSOFT-CDO-ALLDAYEVENT:FALSE
SUMMARY:Virtual After Hours-Speed Bingo!
DESCRIPTION:Virtual After Hours\,Speed Bingo! Join us for an After Hours with a special fundraiser\, honoring Gilda's Club Metro Detroit. We will be playing bingo while networking and giving away some great prizes\; including a FREE Chamber Membership (up to $275.00) to be gifted to a new member!\n\nIf your business would like to sponsor a bingo square please email heatherz@royaloakchamber.com for details.\n\nBingo Zoom link to be emailed on May 18. \nAt Gilda's Club Metro Detroit\, cancer didn't pause with the COVID-19 guidelines and environment of isolation. Gilda's Club didn't pause. Within days\, all of Gilda's Club support groups were moved to visual and audio platforms. Our families facing cancer are among the most vulnerable. Serving them during this added layer of protection is a privilege. Gilda's Club has a gala each year that raises thousands of dollars to keep the programming going all year. That gala was canceled and moved to an online campaign. Any support supports our community and the Gilda's community.
X-ALT-DESC;FMTTYPE=text/html:<font face="Arial\,Verdana\,Helvetica\,sans-serif"><font size="3"><span style="text-align: left\; color: rgb(0\, 0\, 0)\; text-transform: none\; text-indent: 0px\; letter-spacing: normal\; font-style: normal\; font-variant: normal\; font-weight: bold\; text-decoration: none\; word-spacing: 0px\; white-space: pre-wrap\; orphans: 2\; -webkit-text-stroke-width: 0px\;">Virtual After Hours\,Speed Bingo! </span><span style="text-align: left\; color: rgb(0\, 0\, 0)\; text-transform: none\; text-indent: 0px\; letter-spacing: normal\; font-style: normal\; font-variant: normal\; font-weight: normal\; text-decoration: none\; word-spacing: 0px\; white-space: pre-wrap\; orphans: 2\; -webkit-text-stroke-width: 0px\;">Join us for an After Hours with a special fundraiser\, honoring </span><font color="#0b0155"><a data-link-type="web" href="http://www.gildasclubdetroit.org/" rel="noopener noreferrer" style="text-align: left\; text-transform: none\; text-indent: 0px\; letter-spacing: normal\; font-style: normal\; font-variant: normal\; font-weight: normal\; text-decoration: none\; word-spacing: 0px\; white-space: pre-wrap\; orphans: 2\; -webkit-text-stroke-width: 0px\;" target="_blank">Gilda&#39\;s Club Metro Detroit</a>. We will be playing bingo </font><span style="text-align: left\; color: rgb(0\, 0\, 0)\; text-transform: none\; text-indent: 0px\; letter-spacing: normal\; font-style: normal\; font-variant: normal\; font-weight: normal\; text-decoration: none\; word-spacing: 0px\; white-space: pre-wrap\; orphans: 2\; -webkit-text-stroke-width: 0px\;">while networking and giving away some great prizes\; including a FREE Chamber Membership (up to $275.00) to be gifted to a new member!<br />\nIf your business would like to sponsor a bingo square please email </span><a data-link-type="email" rel="noopener noreferrer" style="text-align: left\; color: rgb(232\, 132\, 9)\; text-transform: none\; text-indent: 0px\; letter-spacing: normal\; font-style: normal\; font-variant: normal\; font-weight: normal\; text-decoration: none\; word-spacing: 0px\; white-space: pre-wrap\; orphans: 2\; -webkit-text-stroke-width: 0px\;" target="_blank">heatherz@royaloakchamber.com</a><span style="text-align: left\; color: rgb(0\, 0\, 0)\; text-transform: none\; text-indent: 0px\; letter-spacing: normal\; font-style: normal\; font-variant: normal\; font-weight: normal\; text-decoration: none\; word-spacing: 0px\; white-space: pre-wrap\; orphans: 2\; -webkit-text-stroke-width: 0px\;"> for details.<br />\nBingo Zoom link to be emailed on May 18. </span></font></font>\n<p><span style="font-size:14px\;"><span style="font-family:arial\;"><span style="font-size:16px\;">At <u>Gilda&rsquo\;s Club Metro Detroit</u>\, cancer didn&rsquo\;t pause with the COVID-19 guidelines and environment of isolation. Gilda&rsquo\;s Club didn&rsquo\;t pause. Within days\, all of Gilda&rsquo\;s Club support groups were moved to visual and audio platforms. Our families facing cancer are among the most vulnerable. Serving them during this added layer of protection is a privilege. Gilda&rsquo\;s Club has a gala each year that raises thousands of dollars to keep the programming going all year. That gala was canceled and moved to an online campaign. Any support supports our community and the Gilda&rsquo\;s community.</span></span></span></p>\n\n<p><span style="font-family:&quot\;Century Gothic&quot\;\,sans-serif\;&#10\;color:#1F497D">&nbsp\;</span></p>\n<br />\n&nbsp\;
LOCATION:
UID:e.2933.3312
SEQUENCE:3
DTSTAMP:20260426T023023Z
URL:http://royaloakchamber.smartcms.site/events/details/virtual-after-hours-speed-bingo-3312
END:VEVENT

END:VCALENDAR
