BEGIN:VCALENDAR
VERSION:2.0
PRODID:-//ChamberMaster//Event Calendar 2.0//EN
METHOD:PUBLISH
X-PUBLISHED-TTL:P3D
REFRESH-INTERVAL:P3D
CALSCALE:GREGORIAN
BEGIN:VEVENT
DTSTART:20230716T120000Z
DTEND:20230716T160000Z
X-MICROSOFT-CDO-ALLDAYEVENT:FALSE
SUMMARY:Viewfest 2023
DESCRIPTION:ViewFest is a revolutionary "event based" approach to mental wellness education\, coping/resiliency skill development and community connection opportunities. Curated by leaders in child psychology\, fashion\, music\, education and parenting\, Viewfest is packaged and branded as an "on-tour" festival experience with a mental health twist that specifically addresses the challenges of stress\, anxiety\, depression\, and suicide. *Sponsorship opportunities available!
X-ALT-DESC;FMTTYPE=text/html:ViewFest is a revolutionary &quot\;event based&quot\; approach to mental wellness education\, coping/resiliency skill development and community connection opportunities. Curated by leaders in child psychology\, fashion\, music\, education and parenting\, Viewfest is packaged and branded as an &quot\;on-tour&quot\; festival experience with a mental health twist that specifically addresses the challenges of stress\, anxiety\, depression\, and suicide. *Sponsorship opportunities available!
LOCATION:Detroit Zoo
UID:e.2933.4131
SEQUENCE:3
DTSTAMP:20260423T203014Z
URL:http://royaloakchamber.smartcms.site/events/details/viewfest-2023-4131
END:VEVENT

END:VCALENDAR
