BEGIN:VCALENDAR
VERSION:2.0
PRODID:-//ChamberMaster//Event Calendar 2.0//EN
METHOD:PUBLISH
X-PUBLISHED-TTL:P3D
REFRESH-INTERVAL:P3D
CALSCALE:GREGORIAN
BEGIN:VEVENT
DTSTART:20220803T130000Z
DTEND:20220803T190000Z
X-MICROSOFT-CDO-ALLDAYEVENT:FALSE
SUMMARY:Veterans Services - Small Business Bootcamp
DESCRIPTION:Business Forward is Oakland County's new initiative to provide resources and services to small businesses in cooperation with community-based organizations so companies can thrive and grow. Oakland County's Department of Veteran Services proudly supports those who have served our country. As a result\, Oakland County's Department of Veteran Services is partnering with Business Forward\, to offer Business Bootcamp! A day-long series of business workshops to help entrepreneurs move their Business Forward. Topics include: How to start a business and writing a business plan Marketing your business Resources for hiring Veterans Business finance 101 and gaining access to capital Small business Resources for veterans Gaining certification as a veteran-owned business  And more! Our nation's Veterans have served us well and Oakland County seeks to return the favor.
X-ALT-DESC;FMTTYPE=text/html:Business Forward is Oakland County&rsquo\;s new initiative to provide resources and services to small businesses in cooperation with community-based organizations so companies can thrive and grow. Oakland County&rsquo\;s Department of Veteran Services proudly supports those who have served our country. As a result\, Oakland County&rsquo\;s Department of Veteran Services is partnering with Business Forward\, to offer Business Bootcamp! A day-long series of business workshops to help entrepreneurs move their Business Forward. Topics include: How to start a business and writing a business plan Marketing your business Resources for hiring Veterans Business finance 101 and gaining access to capital Small business Resources for veterans Gaining certification as a veteran-owned business &hellip\;And more! Our nation&rsquo\;s Veterans have served us well and Oakland County seeks to return the favor.
LOCATION:Jon Grant Community Center 29260 Grand River Farmington Hills\, MI 48336
UID:e.2933.4009
SEQUENCE:3
DTSTAMP:20260424T062003Z
URL:http://royaloakchamber.smartcms.site/events/details/veterans-services-small-business-bootcamp-4009
END:VEVENT

END:VCALENDAR
