BEGIN:VCALENDAR
VERSION:2.0
PRODID:-//ChamberMaster//Event Calendar 2.0//EN
METHOD:PUBLISH
X-PUBLISHED-TTL:P3D
REFRESH-INTERVAL:P3D
CALSCALE:GREGORIAN
BEGIN:VEVENT
DTSTART:20200619T140000Z
DTEND:20200821T150000Z
X-MICROSOFT-CDO-ALLDAYEVENT:FALSE
SUMMARY:Unemployment and Budgeting: Navigating the Unemployment Process and Making
DESCRIPTION:Unemployment and Budgeting: Navigating the Unemployment Process and Making Smart Budgeting Decisions - How to file an unemployment claim - Budgeting during the COVID-19 pandemic - Local resources (i.e. food\, shelter\, etc.) Multiple sessions to choose from. The workshops will be recorded so people can view them at a later date at OaklandCountyMIWorks.com.
X-ALT-DESC;FMTTYPE=text/html:Unemployment and Budgeting: Navigating the Unemployment Process and Making Smart Budgeting Decisions - How to file an unemployment claim - Budgeting during the COVID-19 pandemic - Local resources (i.e. food\, shelter\, etc.) Multiple sessions to choose from. The workshops will be recorded so people can view them at a later date at OaklandCountyMIWorks.com.
LOCATION:Webinar
UID:e.2933.3327
SEQUENCE:3
DTSTAMP:20260426T004154Z
URL:http://royaloakchamber.smartcms.site/events/details/unemployment-and-budgeting-navigating-the-unemployment-process-and-making-3327
END:VEVENT

END:VCALENDAR
