BEGIN:VCALENDAR
VERSION:2.0
PRODID:-//ChamberMaster//Event Calendar 2.0//EN
METHOD:PUBLISH
X-PUBLISHED-TTL:P3D
REFRESH-INTERVAL:P3D
CALSCALE:GREGORIAN
BEGIN:VEVENT
DTSTART:20221215T210000Z
DTEND:20221215T220000Z
X-MICROSOFT-CDO-ALLDAYEVENT:FALSE
SUMMARY:Transition Into The New Year
DESCRIPTION:Join Tag Multimedia and Bamboo Royal Oak for a 4th quarter networking blitz! We're relaxing and chatting each other up to finish 2022 strong and start 2023 among new friends. Each month food favorites will be provided by a locally featured business. Great Lakes Pot Pies will be providing their amazing treat at our December networking event.
X-ALT-DESC;FMTTYPE=text/html:Join Tag Multimedia and Bamboo Royal Oak for a 4th quarter networking blitz! We&#39\;re relaxing and chatting each other up to finish 2022 strong and start 2023 among new friends. Each month food favorites will be provided by a locally featured business. Great Lakes Pot Pies will be providing their amazing treat at our December networking event.
LOCATION:Bamboo Royal Oak - 220 South Main Street\, Royal Oak\, MI\, 48067
UID:e.2933.4053
SEQUENCE:3
DTSTAMP:20260424T100510Z
URL:http://royaloakchamber.smartcms.site/events/details/transition-into-the-new-year-12-15-2022-4053
END:VEVENT

END:VCALENDAR
