BEGIN:VCALENDAR
VERSION:2.0
PRODID:-//ChamberMaster//Event Calendar 2.0//EN
METHOD:PUBLISH
X-PUBLISHED-TTL:P3D
REFRESH-INTERVAL:P3D
CALSCALE:GREGORIAN
BEGIN:VEVENT
DTSTART:20201120T200000Z
DTEND:20201120T210000Z
X-MICROSOFT-CDO-ALLDAYEVENT:FALSE
SUMMARY:Training Programs for Logistics/Supply Chain Automation
DESCRIPTION:What skill set and certifications are needed by logistics/ supply chain professionals to flourish in the future\, as the Fourth Industrial Revolution   Industry 4.0   takes hold? What is the demand for these professionals in the Metro Detroit area? What kind of training is needed to master new factory automation and computerization processes? What is the most efficient way to deliver this training and place professionals in the workforce? These are just some of the themes to be covered in a special virtual focus group session with employers from around our region\, on Friday\, November 20\, 2020\, from 3:00-4:00 p.m. The event is being hosted by Oakland County Michigan Works! in partnership with Oakland Community College and ATS-Lab Midwest. Your input would be very valuable as we determine the need and feasibility of offering employer-driven training programs to prepare job seekers for new careers in this field.
X-ALT-DESC;FMTTYPE=text/html:What skill set and certifications are needed by logistics/ supply chain professionals to flourish in the future\, as the Fourth Industrial Revolution &mdash\; Industry 4.0 &mdash\; takes hold? What is the demand for these professionals in the Metro Detroit area? What kind of training is needed to master new factory automation and computerization processes? What is the most efficient way to deliver this training and place professionals in the workforce? These are just some of the themes to be covered in a special virtual focus group session with employers from around our region\, on Friday\, November 20\, 2020\, from 3:00-4:00 p.m. The event is being hosted by Oakland County Michigan Works! in partnership with Oakland Community College and ATS-Lab Midwest. Your input would be very valuable as we determine the need and feasibility of offering employer-driven training programs to prepare job seekers for new careers in this field.
LOCATION:Webinar
UID:e.2933.3456
SEQUENCE:3
DTSTAMP:20260425T192027Z
URL:http://royaloakchamber.smartcms.site/events/details/training-programs-for-logistics-supply-chain-automation-3456
END:VEVENT

END:VCALENDAR
