BEGIN:VCALENDAR
VERSION:2.0
PRODID:-//ChamberMaster//Event Calendar 2.0//EN
METHOD:PUBLISH
X-PUBLISHED-TTL:P3D
REFRESH-INTERVAL:P3D
CALSCALE:GREGORIAN
BEGIN:VEVENT
DTSTART:20240229T230000Z
DTEND:20240301T010000Z
X-MICROSOFT-CDO-ALLDAYEVENT:FALSE
SUMMARY:Three Floyd's Tap Show Case
DESCRIPTION:Join us for a fun night with Three Floyd's brewing!\n\nMeet the rep\, grab some swag\, and as always\, enjoy some delicious beer!\n\nTap list will be announced on socials!
X-ALT-DESC;FMTTYPE=text/html:<div>Join us for a fun night with Three Floyd&#39\;s brewing!</div>\n\n<div>Meet the rep\, grab some swag\, and as always\, enjoy some delicious beer!</div>\n\n<div>Tap list will be announced on socials!</div>\n
LOCATION:Brown Iron Brewhouse Royal Oak
UID:e.2933.4252
SEQUENCE:3
DTSTAMP:20260422T191516Z
URL:http://royaloakchamber.smartcms.site/events/details/three-floyd-s-tap-show-case-4252
END:VEVENT

END:VCALENDAR
