BEGIN:VCALENDAR
VERSION:2.0
PRODID:-//ChamberMaster//Event Calendar 2.0//EN
METHOD:PUBLISH
X-PUBLISHED-TTL:P3D
REFRESH-INTERVAL:P3D
CALSCALE:GREGORIAN
BEGIN:VEVENT
DTSTART:20221112T230000Z
DTEND:20221113T040000Z
X-MICROSOFT-CDO-ALLDAYEVENT:FALSE
SUMMARY:The Lavish Show
DESCRIPTION:Designer /Model Lola Lucania presents a night of fashion\, elegance and grace at the beautiful Bamboo Royal Oak. "The Lavish Show\," designers have been featured in New York Fashion Week\, Milan Fashion Week\, Michigan Fashion Week and will showcase in Paris Fashion Week 2023. This spectacular night of events will include a VIP reception\, red carpet interviews\, Michigan's first Shoe Showcase and a special performance by Detroit's Neo-songstress La' Toi Couture. The event will be hosted by the city's hottest MC RJ Blazer. Doors open at 5:30 p.m. EST. Showcase begins promptly at 7:00 p.m. EST This is show you will not want to miss!! Designers include Lucania Lavish Couture\, Cold Butterflies\, OMG Key Da Brand\, Stan'd Funky\, Mahogani Collections\, Sophisticated Sole and Ballin By Bean.
X-ALT-DESC;FMTTYPE=text/html:Designer /Model Lola Lucania presents a night of fashion\, elegance and grace at the beautiful Bamboo Royal Oak. &quot\;The Lavish Show\,&quot\; designers have been featured in New York Fashion Week\, Milan Fashion Week\, Michigan Fashion Week and will showcase in Paris Fashion Week 2023. This spectacular night of events will include a VIP reception\, red carpet interviews\, Michigan&#39\;s first Shoe Showcase and a special performance by Detroit&#39\;s Neo-songstress La&#39\; Toi Couture. The event will be hosted by the city&#39\;s hottest MC RJ Blazer. Doors open at 5:30 p.m. EST. Showcase begins promptly at 7:00 p.m. EST This is show you will not want to miss!! Designers include Lucania Lavish Couture\, Cold Butterflies\, OMG Key Da Brand\, Stan&#39\;d Funky\, Mahogani Collections\, Sophisticated Sole and Ballin By Bean.
LOCATION:Bamboo 220 S. Main Royal Oak
UID:e.2933.4040
SEQUENCE:3
DTSTAMP:20260424T084122Z
URL:http://royaloakchamber.smartcms.site/events/details/the-lavish-show-4040
END:VEVENT

END:VCALENDAR
