BEGIN:VCALENDAR
VERSION:2.0
PRODID:-//ChamberMaster//Event Calendar 2.0//EN
METHOD:PUBLISH
X-PUBLISHED-TTL:P3D
REFRESH-INTERVAL:P3D
CALSCALE:GREGORIAN
BEGIN:VEVENT
DTSTART:20230728T210000Z
DTEND:20230728T233000Z
X-MICROSOFT-CDO-ALLDAYEVENT:FALSE
SUMMARY:The Friday Flow | Film + Creative Industry Happy Hour
DESCRIPTION:Come have a drink and complementary appetizers with friends from across the creative community in metro Detroit! We'll have a cash bar and free hors d'oeuvres as we connect\, talk about upcoming projects\, and share a panel discussion on 'What's Happening in Detroit Filmmaking?'\, featuring: ?? Emmanuel Afolabi\, Detroit filmmaker and creative director\, Flow Video ?? Nick Stachurski\, director and founder\, Eightfold Detroit ?? Marissa Clement\, producer and photographer Free admission\, bring a friend. RSVP here: bit.ly/friday-flow
X-ALT-DESC;FMTTYPE=text/html:Come have a drink and complementary appetizers with friends from across the creative community in metro Detroit! We&#39\;ll have a cash bar and free hors d&#39\;oeuvres as we connect\, talk about upcoming projects\, and share a panel discussion on &#39\;What&#39\;s Happening in Detroit Filmmaking?&#39\;\, featuring: ?? Emmanuel Afolabi\, Detroit filmmaker and creative director\, Flow Video ?? Nick Stachurski\, director and founder\, Eightfold Detroit ?? Marissa Clement\, producer and photographer Free admission\, bring a friend. RSVP here: bit.ly/friday-flow
LOCATION:Bamboo Royal Oak 220 South Main Street Royal Oak\, MI 48067
UID:e.2933.4155
SEQUENCE:3
DTSTAMP:20260423T203059Z
URL:http://royaloakchamber.smartcms.site/events/details/the-friday-flow-film-creative-industry-happy-hour-4155
END:VEVENT

END:VCALENDAR
