BEGIN:VCALENDAR
VERSION:2.0
PRODID:-//ChamberMaster//Event Calendar 2.0//EN
METHOD:PUBLISH
X-PUBLISHED-TTL:P3D
REFRESH-INTERVAL:P3D
CALSCALE:GREGORIAN
BEGIN:VEVENT
DTSTART:20210826T210000Z
DTEND:20210826T213000Z
X-MICROSOFT-CDO-ALLDAYEVENT:FALSE
SUMMARY:The Campus Shop Ribbon Cutting Ceremony
DESCRIPTION:Please join us in welcoming The Campus Shop\, with a Ribbon Cutting Ceremony!
X-ALT-DESC;FMTTYPE=text/html:Please join us in welcoming <strong>The Campus Shop</strong>\, with a Ribbon Cutting Ceremony!
LOCATION:The Campus Shop 325 S. Washington Ave. Royal Oak\, MI 48067
UID:e.2933.3831
SEQUENCE:3
DTSTAMP:20260425T001106Z
URL:http://royaloakchamber.smartcms.site/events/details/the-campus-shop-ribbon-cutting-ceremony-3831
END:VEVENT

END:VCALENDAR
