BEGIN:VCALENDAR
VERSION:2.0
PRODID:-//ChamberMaster//Event Calendar 2.0//EN
METHOD:PUBLISH
X-PUBLISHED-TTL:P3D
REFRESH-INTERVAL:P3D
CALSCALE:GREGORIAN
BEGIN:VEVENT
DTSTART:20240211T000000Z
DTEND:20240211T020000Z
X-MICROSOFT-CDO-ALLDAYEVENT:FALSE
SUMMARY:Taylor Swift Trivia
DESCRIPTION:Join us for a fun night of Taylor Swift themed Quizzo!\n\nAssemble your best trivia team and compete head to head and see who comes out on top!\n\nFree to play!
X-ALT-DESC;FMTTYPE=text/html:<div>Join us for a fun night of Taylor Swift themed Quizzo!</div>\n\n<div>Assemble your best trivia team and compete head to head and see who comes out on top!</div>\n\n<div>Free to play!</div>\n
LOCATION:Brown Iron Brewhouse Royal Oak
UID:e.2933.4248
SEQUENCE:3
DTSTAMP:20260422T174852Z
URL:http://royaloakchamber.smartcms.site/events/details/taylor-swift-trivia-4248
END:VEVENT

END:VCALENDAR
