BEGIN:VCALENDAR
VERSION:2.0
PRODID:-//ChamberMaster//Event Calendar 2.0//EN
METHOD:PUBLISH
X-PUBLISHED-TTL:P3D
REFRESH-INTERVAL:P3D
CALSCALE:GREGORIAN
BEGIN:VEVENT
DTSTART:20200826T113000Z
DTEND:20200826T123000Z
X-MICROSOFT-CDO-ALLDAYEVENT:FALSE
SUMMARY:TAC (The Alternative Connection) Meeting
DESCRIPTION:The Alternative Connection (TAC) meets the 2nd and 4th Wednesday of each month.  (TAC) has gone VIRTUAL. TAC will be meeting 2nd and 4th Wednesday morning\, meeting via Zoom. We will meet at 7:15 for open networking\, and our meeting will run from 7:30-8:30. As small businesses\, we are working together to meet challenges of our current situation. Discussions on how to grow in this new business environment\, resources available to small businesses\, other educational topics\, and how to support each other with referrals.\n\nThe Alternative Connection (TAC) meets the 2nd and 4th Wednesday of each month. TAC is a place to develop ideas\, learn from and connect with people who are like-minded in a non-traditional business way. Please join us for open networking at 7:15am. Meeting starts at 7:30am and concludes promptly at 8:30am. For more info\, call the Chamber or visit our Facebook Page. Additionally\, anyone interested in presenting your business and leading a discussion topic is encouraged to contact Jill Plamper at (248) 252.8396   Open to chamber members only.
X-ALT-DESC;FMTTYPE=text/html:<span _mce_style="color: #ff6600\;" style="color: rgb(255\, 102\, 0)\; font-family: sans-serif\,Arial\,Verdana\,&amp\;quot\;Trebuchet MS&amp\;quot\;\; font-size: 13px\; font-style: normal\; font-variant: normal\; font-weight: 400\; letter-spacing: normal\; orphans: 2\; text-align: left\; text-decoration: none\; text-indent: 0px\; text-transform: none\; -webkit-text-stroke-width: 0px\; white-space: normal\; word-spacing: 0px\;"><strong>The Alternative Connection (TAC)&nbsp\;</strong><span _mce_style="color: #444444\;" style="color: rgb(68\, 68\, 68)\;">meets the 2nd and 4th Wednesday of each month. </span></span><strong style="color: rgb(51\, 51\, 51)\; font-family: sans-serif\,Arial\,Verdana\,&amp\;quot\;Trebuchet MS&amp\;quot\;\; font-size: 13px\; font-style: normal\; font-variant: normal\; font-weight: 700\; letter-spacing: normal\; orphans: 2\; text-align: left\; text-decoration: none\; text-indent: 0px\; text-transform: none\; -webkit-text-stroke-width: 0px\; white-space: normal\; word-spacing: 0px\;"><span style="color: rgb(64\, 63\, 66)\; font-style: normal\; font-variant: normal\; font-weight: 400\; letter-spacing: normal\; orphans: 2\; text-align: left\; text-decoration: none\; text-indent: 0px\; text-transform: none\; -webkit-text-stroke-width: 0px\; white-space: pre-wrap\; word-spacing: 0px\;">&nbsp\;</span></strong><span style="color: black\; font-family: sans-serif\,Arial\,Verdana\,&amp\;quot\;Trebuchet MS&amp\;quot\;\; font-size: 13px\; font-style: normal\; font-variant: normal\; font-weight: 400\; letter-spacing: normal\; orphans: 2\; text-align: left\; text-decoration: none\; text-indent: 0px\; text-transform: none\; -webkit-text-stroke-width: 0px\; white-space: pre-wrap\; word-spacing: 0px\;"><strong>(TAC) has gone VIRTUAL. TAC will be meeting 2nd and 4th Wednesday morning\, meeting via Zoom.</strong> We will meet at 7:15 for open networking\, and our meeting will run from 7:30-8:30.&nbsp\;As small businesses\, we are working together to meet challenges of our current situation. Discussions on how to grow in this new business environment\, resources available to small businesses\, other educational topics\, and how to support each other with referrals.</span><br />\n<span _mce_style="color: #ff6600\;" style="color: #ff6600\;"><strong>The Alternative Connection (TAC)&nbsp\;</strong><span _mce_style="color: #444444\;" style="color: #444444\;">meets the 2nd and 4th Wednesday of each month. TAC is a place to develop ideas\, learn from and connect with people who are like-minded in a non-traditional business way. Please join us for open networking at 7:15am. Meeting starts at 7:30am and concludes promptly at 8:30am. For more info\, call the Chamber or visit our </span><a _mce_href="http://(www.fb.com/the.alternative.connection)" _mce_shape="rect" _mce_style="color: #444444\; font-weight: bold\; text-decoration: underline\;" href="http://%28www.fb.com/the.alternative.connection%29" linktype="1" shape="rect" style="font-weight: bold\; color: rgb(68\, 68\, 68) !important\;" target="_blank" track="on">Facebook Page</a><span _mce_style="color: #444444\;" style="color: #444444\;">. Additionally\, anyone interested in presenting your business and leading a discussion topic is encouraged to contact Jill Plamper at (248) </span></span>252.8396<span _mce_style="color: #ff6600\;" style="color: #ff6600\;"><span _mce_style="color: #444444\;" style="color: #444444\;"> &nbsp\; Open to chamber members only.&nbsp\;</span></span>
LOCATION:Meets in the Conference Room at the Royal Oak Chamber of Commerce\, 200 S. Washington Avenue.
UID:e.2933.857
SEQUENCE:3
DTSTAMP:20260425T215605Z
URL:http://royaloakchamber.smartcms.site/events/details/tac-the-alternative-connection-meeting-08-26-2020-857
END:VEVENT

END:VCALENDAR
