BEGIN:VCALENDAR
VERSION:2.0
PRODID:-//ChamberMaster//Event Calendar 2.0//EN
METHOD:PUBLISH
X-PUBLISHED-TTL:P3D
REFRESH-INTERVAL:P3D
CALSCALE:GREGORIAN
BEGIN:VEVENT
DTSTART:20240214T123000Z
DTEND:20240214T133000Z
X-MICROSOFT-CDO-ALLDAYEVENT:FALSE
SUMMARY:Network First Meeting
DESCRIPTION:Network First is a networking group within the Royal Oak Chamber of Commerce. \n\n\n\nIt's the one place where you come to meet new and familiar faces within the ROCC to develop ideas\, learn from and connect with people who are like-minded in a non-traditional business way. As small businesses\, start-ups\, and entrepreneurs\, we need an opportunity to meet and work together to help one another take on new challenges\, refer\, partner\, and grow to impact the community individually and collectively.\n\n \n\nCome network with us every 2nd and 4th Wednesday of the Month at 7:30 am to discuss how to grow in this continuously evolving business environment\, there are resources available to small businesses\, start-ups\, and entrepreneurs\, we'll cover other educational topics\, have guest speakers/panels\, and it will always be a place where you can network with others and learn how to support each other. \n\n\n\nOn February 14 Arvind Sappra and Brandon Patrone will be speaking to us on the 2023 financial markets and the outlook for 2024.  \n\n\n\nIf you're interested in joining us\, please reach out to: \n\nJill Plamper\, jill@distinctiveframing.com  OR\n\nMichelle Rafalski\, michelle@glebaandassociates.com
X-ALT-DESC;FMTTYPE=text/html:<br />\n<span style="font-size:16px\;"><span style="font-family:arial\;">Network First is a networking group within the Royal Oak Chamber of Commerce.&nbsp\;<br />\n<br />\nIt&#39\;s the one place where you come to meet new and familiar faces within the ROCC to develop ideas\, learn from and connect with people who are like-minded in a non-traditional business way. As small businesses\, start-ups\, and entrepreneurs\, we need an opportunity to meet and work together to help one another take on new challenges\, refer\, partner\, and grow to impact the community individually and collectively.<br />\n&nbsp\;<br />\nCome network with us every 2nd and 4th Wednesday of the Month at 7:30 am to discuss how to grow in this continuously evolving business environment\, there are resources available to small businesses\, start-ups\, and entrepreneurs\, we&#39\;ll cover other educational topics\, have guest speakers/panels\, and it will always be a place where you can network with others and learn how to support each other.&nbsp\;<br />\n<br />\nOn February 14 Arvind Sappra and Brandon Patrone will be speaking to us on the 2023 financial markets and the outlook for 2024.&nbsp\;&nbsp\;</span></span><br />\n<br />\n<span style="font-size:16px\;"><span style="font-family:arial\;">If you&#39\;re interested in joining us\, please reach out to:&nbsp\;<br />\nJill Plamper\, jill@distinctiveframing.com&nbsp\; OR<br />\nMichelle Rafalski\, michelle@glebaandassociates.com&nbsp\;</span></span><br />\n<br />\n&nbsp\;
LOCATION:Meets in the Conference Room at the Royal Oak Chamber of Commerce\, 200 S. Washington Avenue.
UID:e.2933.766
SEQUENCE:3
DTSTAMP:20260422T193600Z
URL:http://royaloakchamber.smartcms.site/events/details/tac-the-alternative-connection-meeting-02-14-2024-766
END:VEVENT

END:VCALENDAR
