BEGIN:VCALENDAR
VERSION:2.0
PRODID:-//ChamberMaster//Event Calendar 2.0//EN
METHOD:PUBLISH
X-PUBLISHED-TTL:P3D
REFRESH-INTERVAL:P3D
CALSCALE:GREGORIAN
BEGIN:VEVENT
DTSTART:20230810T213000Z
DTEND:20230811T013000Z
X-MICROSOFT-CDO-ALLDAYEVENT:FALSE
SUMMARY:Summer Concert Series
DESCRIPTION:The Royal Oak Chamber of Commerce Summer Concert Series is back in Royal Oak but at a new location! Join us at Centennial Commons Park for 7 weeks of music! Grab a blanket or a lawn chair\, a beverage from your favorite local restaurant (we're in the social district!) and come for the live music. There will be food trucks attending so you can also grab a quick bite! This family friendly series includes a kid's area too! \n\nIf you are interested in sponsoring this event\, email HeatherZ@royaloakchamber.com for more info. Sponsorship levels start at just $100.00!\n\n \n\nEACH WEEK STARTING AT 5:30 pm:\n\nPre-Show with The Detroit School of Rock and Pop Music  (Student Covers)\n\nDJ Invisible (Spinning Hits Between Sets)\n\n\n\nAugust 10 Beach Night!\n\n  7:00pm - Roots Vibration (Reggae\, Carribean)\n\n  8:30pm - Jim Asbell & the Tropiholics (Trop Rock)
X-ALT-DESC;FMTTYPE=text/html:<div dir="auto" style="font-family: &quot\;Segoe UI Historic&quot\;\, &quot\;Segoe UI&quot\;\, Helvetica\, Arial\, sans-serif\; color: rgb(5\, 5\, 5)\; font-size: 15px\; white-space: pre-wrap\;"><font color="#403f42" face="arial"><span style="font-size: 18px\; white-space: pre-wrap\;"><b>The Royal Oak Chamber of Commerce Summer Concert Series is back in Royal Oak but at a new location! Join us at Centennial Commons Park for 7 weeks of music! Grab a blanket or a lawn chair\, a beverage from your favorite local restaurant (we&#39\;re in the social district!) and come for the live music. There will be food trucks attending so you can also grab a quick bite! This family friendly series includes a kid&#39\;s area too! </b></span></font><br />\n<span style="font-family: arial\; font-size: 18px\; color: rgb(64\, 63\, 66)\; white-space: pre-wrap\;">If you are interested in sponsoring this event\, email HeatherZ@royaloakchamber.com </span><span style="font-family: arial\; font-size: 18px\; color: rgb(64\, 63\, 66)\; white-space: pre-wrap\;">for more info. </span><span style="font-family: arial\; font-size: 18px\; color: rgb(64\, 63\, 66)\; white-space: pre-wrap\; font-style: italic\;">Sponsorship levels start at just $100.00!</span><br />\n&nbsp\;</div>\n\n<div dir="auto" style="font-family: &quot\;Segoe UI Historic&quot\;\, &quot\;Segoe UI&quot\;\, Helvetica\, Arial\, sans-serif\; color: rgb(5\, 5\, 5)\; font-size: 15px\; white-space: pre-wrap\;"><span style="font-size: 18px\;"><span style="font-family: arial\;">EACH WEEK STARTING AT 5:30 pm:</span></span></div>\n\n<div dir="auto" style="font-family: &quot\;Segoe UI Historic&quot\;\, &quot\;Segoe UI&quot\;\, Helvetica\, Arial\, sans-serif\; color: rgb(5\, 5\, 5)\; font-size: 15px\; white-space: pre-wrap\;"><span style="font-size: 18px\;"><span style="font-family: arial\;">Pre-Show with The Detroit School of Rock and Pop Music&reg\; (Student Covers)</span></span></div>\n\n<div dir="auto" style="font-family: &quot\;Segoe UI Historic&quot\;\, &quot\;Segoe UI&quot\;\, Helvetica\, Arial\, sans-serif\; color: rgb(5\, 5\, 5)\; font-size: 15px\; white-space: pre-wrap\;"><span style="font-size: 18px\;"><span style="font-family: arial\;">DJ Invisible (Spinning Hits Between Sets)</span></span></div>\n\n<div dir="auto" style="color: rgb(5\, 5\, 5)\; white-space: pre-wrap\;"><br />\n<font face="arial"><span style="font-size: 18px\;">August 10 Beach Night!</span></font></div>\n\n<div dir="auto" style="font-family: &quot\;Segoe UI Historic&quot\;\, &quot\;Segoe UI&quot\;\, Helvetica\, Arial\, sans-serif\; color: rgb(5\, 5\, 5)\; font-size: 15px\; white-space: pre-wrap\;"><span style="font-size:18px\;"><span style="font-family:arial\;">&bull\; 7:00pm - Roots Vibration (Reggae\, Carribean)</span></span></div>\n\n<div dir="auto" style="font-family: &quot\;Segoe UI Historic&quot\;\, &quot\;Segoe UI&quot\;\, Helvetica\, Arial\, sans-serif\; color: rgb(5\, 5\, 5)\; font-size: 15px\; white-space: pre-wrap\;"><span style="font-size:18px\;"><span style="font-family:arial\;">&bull\; 8:30pm - Jim Asbell &amp\; the Tropiholics (Trop Rock)</span></span></div>\n
LOCATION:Centennial Commons Park 204 S. Troy C.C Park Royal Oak\, MI 48067
UID:e.2933.4120
SEQUENCE:3
DTSTAMP:20260423T185010Z
URL:http://royaloakchamber.smartcms.site/events/details/summer-concert-series-4120
END:VEVENT

END:VCALENDAR
