BEGIN:VCALENDAR
VERSION:2.0
PRODID:-//ChamberMaster//Event Calendar 2.0//EN
METHOD:PUBLISH
X-PUBLISHED-TTL:P3D
REFRESH-INTERVAL:P3D
CALSCALE:GREGORIAN
BEGIN:VEVENT
DTSTART:20220618T113000Z
DTEND:20220618T160000Z
X-MICROSOFT-CDO-ALLDAYEVENT:FALSE
SUMMARY:Stroll for Epilepsy™
DESCRIPTION:The Stroll for Epilepsy  is an inspirational event that unites the epilepsy community across the state to fight the challenges of living with epilepsy including stigma\, SUDEP\, misdiagnosis\, treatment gaps\, loss of employment\, discrimination\, and isolation. As the Epilepsy Foundation of Michigan's largest fundraising event\, the Stroll for Epilepsy  increases awareness and provides vital support in the fight against epilepsy. This year\, the Metro Detroit Stroll for Epilepsy  will be held on Saturday\, June 18 at 7:30am at the Detroit Zoo. We are SO excited to gather in-person this year\, but those who cannot attend in-person can still participate virtually. All Strollers will have the opportunity to hear personal stories of those affected by epilepsy\, fundraise\, earn prizes\, and make a difference in the lives of those living with epilepsy! The Epilepsy Foundation of Michigan leads the fight to overcome the challenges of living with epilepsy and to accelerate therapies to stop seizures\, find cures\, and save lives. Funds raised through the Stroll for Epilepsy  will benefit the Foundation's state-wide initiatives\, making it possible for the Foundation to train school personnel on seizure first aid\, host educational conferences\, provide guidance and understanding to individuals affected by epilepsy through the Here for You Helpline\, and more! Pre-Registration for the Metro Detroit Stroll for Epilepsy  is available until June 16 at 11:59pm. Day-of registration is available for In-Person Strollers who miss the deadline for an additional fee\, as long as that Stroll is not sold out. Zoo admission is included and can be utilized even after the Stroll is over. Strollers must arrive before 8:30am to receive free parking and admittance into the zoo. For more information\, or to register today\, please visit https://epilepsymichigan.org/stroll-for-epilepsy/. Pre-Registration Fees - Virtual & In-Person Adult Strollers (Ages 12+) - $25 Virtual & In-Person Child Strollers (Ages 2 -11) - $15 Virtual & In-Person Infant Strollers (Ages 1 and under)   FREE
X-ALT-DESC;FMTTYPE=text/html:The Stroll for Epilepsy&trade\; is an inspirational event that unites the epilepsy community across the state to fight the challenges of living with epilepsy including stigma\, SUDEP\, misdiagnosis\, treatment gaps\, loss of employment\, discrimination\, and isolation. As the Epilepsy Foundation of Michigan&rsquo\;s largest fundraising event\, the Stroll for Epilepsy&trade\; increases awareness and provides vital support in the fight against epilepsy. This year\, the Metro Detroit Stroll for Epilepsy&trade\; will be held on Saturday\, June 18 at 7:30am at the Detroit Zoo. We are SO excited to gather in-person this year\, but those who cannot attend in-person can still participate virtually. All Strollers will have the opportunity to hear personal stories of those affected by epilepsy\, fundraise\, earn prizes\, and make a difference in the lives of those living with epilepsy! The Epilepsy Foundation of Michigan leads the fight to overcome the challenges of living with epilepsy and to accelerate therapies to stop seizures\, find cures\, and save lives. Funds raised through the Stroll for Epilepsy&trade\; will benefit the Foundation&rsquo\;s state-wide initiatives\, making it possible for the Foundation to train school personnel on seizure first aid\, host educational conferences\, provide guidance and understanding to individuals affected by epilepsy through the Here for You Helpline\, and more! Pre-Registration for the Metro Detroit Stroll for Epilepsy&trade\; is available until June 16 at 11:59pm. Day-of registration is available for In-Person Strollers who miss the deadline for an additional fee\, as long as that Stroll is not sold out. Zoo admission is included and can be utilized even after the Stroll is over. Strollers must arrive before 8:30am to receive free parking and admittance into the zoo. For more information\, or to register today\, please visit https://epilepsymichigan.org/stroll-for-epilepsy/. Pre-Registration Fees - Virtual &amp\; In-Person Adult Strollers (Ages 12+) - $25 Virtual &amp\; In-Person Child Strollers (Ages 2 -11) - $15 Virtual &amp\; In-Person Infant Strollers (Ages 1 and under) &ndash\; FREE
LOCATION:Detroit Zoo 8450 W. 10 Mile Rd. Royal Oak\, MI 48067
UID:e.2933.3913
SEQUENCE:3
DTSTAMP:20260424T094100Z
URL:http://royaloakchamber.smartcms.site/events/details/stroll-for-epilepsy-3913
END:VEVENT

END:VCALENDAR
