BEGIN:VCALENDAR
VERSION:2.0
PRODID:-//ChamberMaster//Event Calendar 2.0//EN
METHOD:PUBLISH
X-PUBLISHED-TTL:P3D
REFRESH-INTERVAL:P3D
CALSCALE:GREGORIAN
BEGIN:VEVENT
DTSTART:20240925T223000Z
DTEND:20240925T233000Z
X-MICROSOFT-CDO-ALLDAYEVENT:FALSE
SUMMARY:Stein Hoist Competition Round One
DESCRIPTION:Make sure you warm up your stein hoisting arm. Brown Iron is hosting some competitions during their Oktoberfest celebration with their very own Stein Hoisting contest!\n\n \n\nPrizes to the top competitor in both the Men's and Women's Hoist!\n\n\n\nThis will be a multiple-round event with each round taking place on a separate day!\n\n \n\nThis is round one at our Royal Oak location!\n\n \n\nThe top 2 people in each division are invited to the final round which will be at our Royal Oak location on 10/6 at 6 pm\n\nRound 2 will be for people who missed round 1\, or people who want to give it another chance to be invited to the finals!\n\n \n\nPrizes to be awarded at the final (Round 3 finals)
X-ALT-DESC;FMTTYPE=text/html:<div>Make sure you warm up your stein hoisting arm. Brown Iron is hosting some competitions during their Oktoberfest celebration with their very own Stein Hoisting contest!<br />\n&nbsp\;</div>\n\n<div>Prizes to the top competitor in both the Men&#39\;s and Women&#39\;s Hoist!<br />\n<br />\nThis will be a multiple-round event with each round taking place on a separate day!<br />\n&nbsp\;</div>\n\n<div>This is round one at our Royal Oak location!<br />\n&nbsp\;</div>\n\n<div>The top 2 people in each division are invited to the final round which will be at our Royal Oak location on 10/6 at 6 pm</div>\n\n<div>Round 2 will be for people who missed round 1\, or people who want to give it another chance to be invited to the finals!<br />\n&nbsp\;</div>\n\n<div>Prizes to be awarded at the final (Round 3 finals)</div>\n
LOCATION:30955 Woodward Ave.\, Royal Oak\, MI\, United States\, Michigan 48073
UID:e.2933.4423
SEQUENCE:3
DTSTAMP:20260423T074733Z
URL:http://royaloakchamber.smartcms.site/events/details/stein-hoist-competition-round-one-4423
END:VEVENT

END:VCALENDAR
