BEGIN:VCALENDAR
VERSION:2.0
PRODID:-//ChamberMaster//Event Calendar 2.0//EN
METHOD:PUBLISH
X-PUBLISHED-TTL:P3D
REFRESH-INTERVAL:P3D
CALSCALE:GREGORIAN
BEGIN:VEVENT
DTSTART:20220314T130000Z
DTEND:20220314T143000Z
X-MICROSOFT-CDO-ALLDAYEVENT:FALSE
SUMMARY:State of the Chamber & Awards Ceremony\, Presented by: Beaumont Health
DESCRIPTION:2022 State of the Chamber and Awards Ceremony!\nJoin us for Business over Breakfast.\n\n\n\nThe State of the Chamber | VIP Celebration gives Chamber Board President\, Alan Kroll\, the opportunity to share key insights about the activities\, goals and state of the Chamber.\n\n\n\nIn addition\, you will hear from our networking groups\, BWN\, TAC & ROYAL.  Awards will be presented to the Business of the Year\, Rick Johnson Chamber Champion\, Membership Impact Award\, Non-Profit of the Year & Business Beautifications. \n\n\n\nSpecial thanks to our Presenting Sponsor: Beaumont Health\n\nas well as  Patts Word Art\, Galloway & Collens & Consumer Energy for your generous sponsorships. \n\n\n\nThank you for your nominations! Submissions are complete.\n\nDo you know a deserving business? Nominate them today! \n\nBusiness of the Year nomination form HERE\n\nBusiness Beautification nomination form HERE.
X-ALT-DESC;FMTTYPE=text/html:<p><span style="font-size:18px\;">2022 State of the Chamber and Awards Ceremony!</span></p>\n<span style="font-size:16px\;">Join us for Business over Breakfast.</span><br />\n<br />\n<span style="font-size:16px\;"><span style="color: rgb(51\, 51\, 51)\;">The State of the Chamber | VIP Celebration gives Chamber Board President\, Alan Kroll\, the opportunity to share key insights about the activities\, goals and state of the Chamber.<br />\n<br />\nIn addition\, you will hear from our networking groups\, BWN\, TAC &amp\; ROYAL.&nbsp\; Awards will be presented to the Business of the Year\, Rick Johnson Chamber Champion\, Membership Impact Award\, Non-Profit of the Year &amp\; Business Beautifications.&nbsp\;</span><br />\n<br />\n<span style="color: rgb(51\, 51\, 51)\;"><strong>Special thanks to our Presenting Sponsor:</strong>&nbsp\;</span><b>Beaumont Health<br />\nas well as&nbsp\; Patts Word Art\, Galloway &amp\; Collens &amp\; Consumer Energy for your generous sponsorships.&nbsp\;<br />\n<br />\nThank you for your nominations! Submissions are complete.</b><br />\nDo you know a deserving business? Nominate them today!&nbsp\;<br />\nBusiness of the Year nomination form <a href="https://chambermaster.blob.core.windows.net/userfiles/UserFiles/chambers/2933/File/SOTCNominationCompletable.pdf">HERE</a><br />\nBusiness Beautification nomination form <a href="https://chambermaster.blob.core.windows.net/userfiles/UserFiles/chambers/2933/File/Beautificaton_Nomination_complete.pdf">HERE</a>.&nbsp\;</span><br />\n<br />\n<br />\n&nbsp\;
LOCATION:Churchill Community Ed. Center 707 Girard Ave\, Royal Oak\, MI 48073
UID:e.2933.3864
SEQUENCE:3
DTSTAMP:20260424T112919Z
URL:http://royaloakchamber.smartcms.site/events/details/state-of-the-chamber-awards-ceremony-presented-by-beaumont-health-3864
END:VEVENT

END:VCALENDAR
