BEGIN:VCALENDAR
VERSION:2.0
PRODID:-//ChamberMaster//Event Calendar 2.0//EN
METHOD:PUBLISH
X-PUBLISHED-TTL:P3D
REFRESH-INTERVAL:P3D
CALSCALE:GREGORIAN
BEGIN:VEVENT
DTSTART:20200811T150000Z
DTEND:20200811T160000Z
X-MICROSOFT-CDO-ALLDAYEVENT:FALSE
SUMMARY:Startup Cash Flow Analysis – Don’t Get in Over Your Head
DESCRIPTION:Fifty percent of new businesses fail within the first five years. Start-Up Cash Analysis is designed for individuals who need a better understanding of the cash demands required to successfully start a business and how to plan them. The use and concepts of the Start-Up Cash Analysis workbook including estimating cash needs will be discussed. Proper estimation of start-up needs is critical to the successful launch of your business. Don't be a statistic. This workshop is designed to help startup businesses. Cost: Free | Registration Required
X-ALT-DESC;FMTTYPE=text/html:Fifty percent of new businesses fail within the first five years. Start-Up Cash Analysis is designed for individuals who need a better understanding of the cash demands required to successfully start a business and how to plan them. The use and concepts of the Start-Up Cash Analysis workbook including estimating cash needs will be discussed. Proper estimation of start-up needs is critical to the successful launch of your business. Don&rsquo\;t be a statistic. This workshop is designed to help startup businesses. Cost: Free | Registration Required
LOCATION:Webinar
UID:e.2933.3344
SEQUENCE:3
DTSTAMP:20260426T004245Z
URL:http://royaloakchamber.smartcms.site/events/details/startup-cash-flow-analysis-don-t-get-in-over-your-head-3344
END:VEVENT

END:VCALENDAR
