BEGIN:VCALENDAR
VERSION:2.0
PRODID:-//ChamberMaster//Event Calendar 2.0//EN
METHOD:PUBLISH
X-PUBLISHED-TTL:P3D
REFRESH-INTERVAL:P3D
CALSCALE:GREGORIAN
BEGIN:VEVENT
DTSTART:20200908T170000Z
DTEND:20200908T180000Z
X-MICROSOFT-CDO-ALLDAYEVENT:FALSE
SUMMARY:Startup Cash Flow Analysis – Don’t Get in Over Your Head
DESCRIPTION:Get ahead of the curve\, prepare for the next steps and don't get in over your head. This virtual workshop helps new entrepreneurs gain a better understanding of the cash demands required to successfully start a business. With 50 percent of small businesses failing within the first five years\, proper startup cash flow analysis is paramount to a successful launch. Concepts found in the Startup Cash Analysis Workbook (course materials) and estimating cash needs will be covered. Don't be a statistic. Register today. This workshop is for pre-start businesses.
X-ALT-DESC;FMTTYPE=text/html:Get ahead of the curve\, prepare for the next steps and don&rsquo\;t get in over your head. This virtual workshop helps new entrepreneurs gain a better understanding of the cash demands required to successfully start a business. With 50 percent of small businesses failing within the first five years\, proper startup cash flow analysis is paramount to a successful launch. Concepts found in the Startup Cash Analysis Workbook (course materials) and estimating cash needs will be covered. Don&rsquo\;t be a statistic. Register today. This workshop is for pre-start businesses.
LOCATION:Webinar
UID:e.2933.3358
SEQUENCE:3
DTSTAMP:20260425T231326Z
URL:http://royaloakchamber.smartcms.site/events/details/startup-cash-flow-analysis-don-t-get-in-over-your-head-09-08-2020-3358
END:VEVENT

END:VCALENDAR
