BEGIN:VCALENDAR
VERSION:2.0
PRODID:-//ChamberMaster//Event Calendar 2.0//EN
METHOD:PUBLISH
X-PUBLISHED-TTL:P3D
REFRESH-INTERVAL:P3D
CALSCALE:GREGORIAN
BEGIN:VEVENT
DTSTART:20201007T130000Z
DTEND:20201007T150000Z
X-MICROSOFT-CDO-ALLDAYEVENT:FALSE
SUMMARY:Starting a Business
DESCRIPTION:Thinking about starting a business? We can help. This virtual workshop is designed for individuals who are at the beginning stages of starting a business. Topics like startup costs\, financing options and business planning are introduced along with the steps to get started. This workshop is for startup businesses.
X-ALT-DESC;FMTTYPE=text/html:Thinking about starting a business? We can help. This virtual workshop is designed for individuals who are at the beginning stages of starting a business. Topics like startup costs\, financing options and business planning are introduced along with the steps to get started. This workshop is for startup businesses.
LOCATION:Webinar
UID:e.2933.3377
SEQUENCE:3
DTSTAMP:20260425T212251Z
URL:http://royaloakchamber.smartcms.site/events/details/starting-a-business-10-07-2020-3377
END:VEVENT

END:VCALENDAR
