BEGIN:VCALENDAR
VERSION:2.0
PRODID:-//ChamberMaster//Event Calendar 2.0//EN
METHOD:PUBLISH
X-PUBLISHED-TTL:P3D
REFRESH-INTERVAL:P3D
CALSCALE:GREGORIAN
BEGIN:VEVENT
DTSTART:20250129T220000Z
DTEND:20250129T230000Z
X-MICROSOFT-CDO-ALLDAYEVENT:FALSE
SUMMARY:Social Security Webinar
DESCRIPTION:Join us with Max McQuiston from American Funds! We'll discuss various factors that an impact social security to help you plan for your retirement. We will also be covering some new regulations that came into place in 2025 on social security.
X-ALT-DESC;FMTTYPE=text/html:Join us with Max McQuiston from American Funds! We&#39\;ll discuss various factors that an impact social security to help you plan for your retirement. We will also be covering some new regulations that came into place in 2025 on social security.
LOCATION:https://events.teams.microsoft.com/event/c2e307c3-23bd-4999-acff-dbbefd8df06c@483a41c9-68f7-4f11-8ef5-3888d6cc1808
UID:e.2933.4717
SEQUENCE:3
DTSTAMP:20260419T150655Z
URL:http://royaloakchamber.smartcms.site/events/details/social-security-webinar-4717
END:VEVENT

END:VCALENDAR
