BEGIN:VCALENDAR
VERSION:2.0
PRODID:-//ChamberMaster//Event Calendar 2.0//EN
METHOD:PUBLISH
X-PUBLISHED-TTL:P3D
REFRESH-INTERVAL:P3D
CALSCALE:GREGORIAN
BEGIN:VEVENT
DTSTART:20201117T140000Z
DTEND:20201117T163000Z
X-MICROSOFT-CDO-ALLDAYEVENT:FALSE
SUMMARY:Social Media for Business Growth 2020
DESCRIPTION:Cost: $40.00 Whether you call it social media or social networking or web 2.0 or internet marketing\, the question on every professional's mind is this: "Is social media a waste of time or an essential power tool for business in a post phonebook world?" The simple answer is "yes". Amid all the distractions\, LinkedIn\, YouTube\, Facebook\, Instagram\, and Twitter are emerging as essential tools for marketing your business. Join us for this entertaining and educational seminar as Terry Bean takes you through the tools and rules of social media. Presented by Terry Bean\, Founder of Networked Inc. and Motor City Connect
X-ALT-DESC;FMTTYPE=text/html:Cost: $40.00 Whether you call it social media or social networking or web 2.0 or internet marketing\, the question on every professional&rsquo\;s mind is this: &ldquo\;Is social media a waste of time or an essential power tool for business in a post phonebook world?&rdquo\; The simple answer is &ldquo\;yes&rdquo\;. Amid all the distractions\, LinkedIn\, YouTube\, Facebook\, Instagram\, and Twitter are emerging as essential tools for marketing your business. Join us for this entertaining and educational seminar as Terry Bean takes you through the tools and rules of social media. Presented by Terry Bean\, Founder of Networked Inc. and Motor City Connect
LOCATION:Webinar
UID:e.2933.3449
SEQUENCE:3
DTSTAMP:20260425T212607Z
URL:http://royaloakchamber.smartcms.site/events/details/social-media-for-business-growth-2020-11-17-2020-3449
END:VEVENT

END:VCALENDAR
