BEGIN:VCALENDAR
VERSION:2.0
PRODID:-//ChamberMaster//Event Calendar 2.0//EN
METHOD:PUBLISH
X-PUBLISHED-TTL:P3D
REFRESH-INTERVAL:P3D
CALSCALE:GREGORIAN
BEGIN:VEVENT
DTSTART:20240423T160000Z
DTEND:20240423T173000Z
X-MICROSOFT-CDO-ALLDAYEVENT:FALSE
SUMMARY:Small Business Economic Outlook Luncheon and Presentation
DESCRIPTION:This event is SOLD OUT! Thank you for your interest. \n\n\n\nJoin us for a luncheon and presentation at North End Taproom with speaker Brian Calley\, President & CEO of the Small Business Association of Michigan. Mr. Calley will speak to the overall small business climate in Michigan and how policy at the Capitol in Lansing may be impacting how you do business in your community and statewide.\n\n\n\nTicket price includes a salad and soup lunch\, with soft drink option. Please be sure to select vegan\, chicken\, or beef when you register. Select in the drop-down menu on the registration page. \n\n\nYou are welcome to enjoy and purchase craft beverages from their self-serve tap wall. Attendees are responsible for their own bar bill. \n\n\n\nEmail Heatherz@royaloakchamber.com for sponsorship opportunities!
X-ALT-DESC;FMTTYPE=text/html:<p><span style="font-size:18px\;">This event is SOLD OUT! Thank you for your interest.&nbsp\;</span><br />\n<br />\n<span style="font-size:16px\;"><span style="font-family:arial\;">Join us for a luncheon and presentation at North End Taproom with&nbsp\;speaker Brian Calley\, President&nbsp\;&amp\; CEO of the Small Business Association of Michigan.&nbsp\;Mr.&nbsp\;Calley will speak to the overall small business climate in Michigan and how policy at the Capitol in Lansing may be impacting how you do business in your community and statewide.<br />\n<br />\nTicket price includes a salad and soup lunch\, with soft drink option.&nbsp\;<b style="color: rgb(255\, 0\, 0)\;">Please be sure to select vegan\, chicken\, or beef when you register. Select&nbsp\;in&nbsp\;the drop-down menu on the registration page.&nbsp\;</b></span></span></p>\n<br />\n<span style="font-size:16px\;"><span style="font-family:arial\;">You are welcome to enjoy and purchase craft beverages from their self-serve tap wall. Attendees are responsible for their own bar bill.&nbsp\;<br />\n<br />\n<span style="color:#000080\;">Email</span><u><span style="color:#000080\;"> </span><a href="http://heatherz@royaloakchamber.com"><span style="color:#000080\;">Heatherz@royaloakchamber.com</span></a></u><span style="color:#000080\;"> for sponsorship opportunities!&nbsp\;</span></span></span>
LOCATION:North End Taproom 111 S. Main St. Royal Oak\, MI 48067
UID:e.2933.4320
SEQUENCE:3
DTSTAMP:20260422T224151Z
URL:http://royaloakchamber.smartcms.site/events/details/small-business-economic-outlook-luncheon-and-presentation-4320
END:VEVENT

END:VCALENDAR
