BEGIN:VCALENDAR
VERSION:2.0
PRODID:-//ChamberMaster//Event Calendar 2.0//EN
METHOD:PUBLISH
X-PUBLISHED-TTL:P3D
REFRESH-INTERVAL:P3D
CALSCALE:GREGORIAN
BEGIN:VEVENT
DTSTART:20220824T123000Z
DTEND:20220824T133000Z
X-MICROSOFT-CDO-ALLDAYEVENT:FALSE
SUMMARY:Small Business Certifications for Federal Contracting
DESCRIPTION:Did you know that the federal government works to make sure that at least 23% of all federal contracting dollars are awarded to small businesses? There are many federal contracts that are set-aside specifically for women-owned businesses\, veteran-owned businesses\, minority-owned businesses\, and more.
X-ALT-DESC;FMTTYPE=text/html:Did you know that the federal government works to make sure that at least 23% of all federal contracting dollars are awarded to small businesses? There are many federal contracts that are set-aside specifically for women-owned businesses\, veteran-owned businesses\, minority-owned businesses\, and more.
LOCATION:Online event
UID:e.2933.4015
SEQUENCE:3
DTSTAMP:20260424T062055Z
URL:http://royaloakchamber.smartcms.site/events/details/small-business-certifications-for-federal-contracting-4015
END:VEVENT

END:VCALENDAR
