BEGIN:VCALENDAR
VERSION:2.0
PRODID:-//ChamberMaster//Event Calendar 2.0//EN
METHOD:PUBLISH
X-PUBLISHED-TTL:P3D
REFRESH-INTERVAL:P3D
CALSCALE:GREGORIAN
BEGIN:VEVENT
DTSTART:20250131T000000Z
DTEND:20250131T020000Z
X-MICROSOFT-CDO-ALLDAYEVENT:FALSE
SUMMARY:Shrek Trivia
DESCRIPTION:Attention all Shrek enthusiasts! Join us for an exciting Shrek-themed trivia night!\n\nCompete head-to-head with fellow Shrek fans and find out who knows the most about this beloved movie series!\n\nMark your calendars for Thursday\, January 30th at 7 PM!\n\nParticipation is free\, and everyone of all ages is welcome!\n\nWe look forward to seeing you there
X-ALT-DESC;FMTTYPE=text/html:<div>Attention all Shrek enthusiasts! Join us for an exciting Shrek-themed trivia night!</div>\n\n<div>Compete head-to-head with fellow Shrek fans and find out who knows the most about this beloved movie series!</div>\n\n<div>Mark your calendars for Thursday\, January 30th at 7 PM!</div>\n\n<div>Participation is free\, and everyone of all ages is welcome!</div>\n\n<div>We look forward to seeing you there</div>\n
LOCATION:30955 Woodward Ave.\, Royal Oak\, MI\, United States\, Michigan 48073
UID:e.2933.4713
SEQUENCE:3
DTSTAMP:20260419T150954Z
URL:http://royaloakchamber.smartcms.site/events/details/shrek-trivia-4713
END:VEVENT

END:VCALENDAR
