BEGIN:VCALENDAR
VERSION:2.0
PRODID:-//ChamberMaster//Event Calendar 2.0//EN
METHOD:PUBLISH
X-PUBLISHED-TTL:P3D
REFRESH-INTERVAL:P3D
CALSCALE:GREGORIAN
BEGIN:VEVENT
DTSTART:20240208T230000Z
DTEND:20240209T010000Z
X-MICROSOFT-CDO-ALLDAYEVENT:FALSE
SUMMARY:Short's Brewing Tap Show Case
DESCRIPTION:Join us for a fun night with Short's Brewing!\n\nMeet the rep\, grab some swag\, and most importantly enjoy some delicious beer!\n\nTap list to be announced on socials!
X-ALT-DESC;FMTTYPE=text/html:<div>Join us for a fun night with Short&#39\;s Brewing!</div>\n\n<div>Meet the rep\, grab some swag\, and most importantly enjoy some delicious beer!</div>\n\n<div>Tap list to be announced on socials!</div>\n
LOCATION:Brown Iron Royal Oak
UID:e.2933.4247
SEQUENCE:3
DTSTAMP:20260422T175039Z
URL:http://royaloakchamber.smartcms.site/events/details/short-s-brewing-tap-show-case-4247
END:VEVENT

END:VCALENDAR
