BEGIN:VCALENDAR
VERSION:2.0
PRODID:-//ChamberMaster//Event Calendar 2.0//EN
METHOD:PUBLISH
X-PUBLISHED-TTL:P3D
REFRESH-INTERVAL:P3D
CALSCALE:GREGORIAN
BEGIN:VEVENT
DTSTART:20250213T230000Z
DTEND:20250214T010000Z
X-MICROSOFT-CDO-ALLDAYEVENT:FALSE
SUMMARY:Short's Brewing Co. Tap Showcase
DESCRIPTION:Join us for a fun night with our friends from Short's Brewing Co!\n\nMeet a rep\, grab some swag\, and sample some of their delicious beers!\n\nAll updates will be made on our Facebook event!
X-ALT-DESC;FMTTYPE=text/html:<div>Join us for a fun night with our friends from Short&#39\;s Brewing Co!</div>\n\n<div>Meet a rep\, grab some swag\, and sample some of their delicious beers!</div>\n\n<div>All updates will be made on our Facebook event!</div>\n
LOCATION:30955 Woodward Ave.\, Royal Oak\, MI\, United States\, Michigan 48073
UID:e.2933.4641
SEQUENCE:3
DTSTAMP:20260419T133047Z
URL:http://royaloakchamber.smartcms.site/events/details/short-s-brewing-co-tap-showcase-4641
END:VEVENT

END:VCALENDAR
