BEGIN:VCALENDAR
VERSION:2.0
PRODID:-//ChamberMaster//Event Calendar 2.0//EN
METHOD:PUBLISH
X-PUBLISHED-TTL:P3D
REFRESH-INTERVAL:P3D
CALSCALE:GREGORIAN
BEGIN:VEVENT
DTSTART:20201214T200000Z
DTEND:20201214T210000Z
X-MICROSOFT-CDO-ALLDAYEVENT:FALSE
SUMMARY:Second Chance Banking
DESCRIPTION:Cost: No Charge   Learn about some second chance opportunities offered by banks and credit unions   Learn the difference between traditional and online banking   Find the perfect spending and saving account for you
X-ALT-DESC;FMTTYPE=text/html:Cost: No Charge &bull\; Learn about some second chance opportunities offered by banks and credit unions &bull\; Learn the difference between traditional and online banking &bull\; Find the perfect spending and saving account for you
LOCATION:Webinar
UID:e.2933.3460
SEQUENCE:3
DTSTAMP:20260425T175523Z
URL:http://royaloakchamber.smartcms.site/events/details/second-chance-banking-12-14-2020-3460
END:VEVENT

END:VCALENDAR
