BEGIN:VCALENDAR
VERSION:2.0
PRODID:-//ChamberMaster//Event Calendar 2.0//EN
METHOD:PUBLISH
X-PUBLISHED-TTL:P3D
REFRESH-INTERVAL:P3D
CALSCALE:GREGORIAN
BEGIN:VEVENT
DTSTART:20230608T210000Z
DTEND:20230608T233000Z
X-MICROSOFT-CDO-ALLDAYEVENT:FALSE
SUMMARY:ROYAL Speed Networking
DESCRIPTION:Join our young professionals group\, ROYAL\, for a seriously fun speed networking event with your peers. There will be prizes\, just saying.
X-ALT-DESC;FMTTYPE=text/html:Join our young professionals group\, ROYAL\, for a seriously fun speed networking event with your peers. There will be prizes\, just saying.&nbsp\;
LOCATION:Lockhart's BBQ 202 East Third Street Royal Oak\, MI 48067
UID:e.2933.4135
SEQUENCE:3
DTSTAMP:20260423T221650Z
URL:http://royaloakchamber.smartcms.site/events/details/royal-speed-networking-4135
END:VEVENT

END:VCALENDAR
